BEGIN:VCALENDAR
PRODID:-//Grails iCalendar plugin//NONSGML Grails iCalendar plugin//EN
VERSION:2.0
CALSCALE:GREGORIAN
METHOD:PUBLISH
BEGIN:VEVENT
DTSTAMP:20260420T120210Z
DTSTART;TZID=America/Toronto:20260424T090000
DTEND;TZID=America/Toronto:20260425T170000
SUMMARY:8th Annual Chapel Hill Normativity Workshop: Montreal Edition!
UID:20260420T131139Z-iCalPlugin-Grails@philevents-web-f5d4878dd-nv7xt
TZID:America/Toronto
LOCATION:Thomson House\, Montréal\, Canada
DESCRIPTION:<p>The eight annual Chapel Hill Normativity Workshop will be held in <strong>Montreal</strong> (as a special one-off) on <strong>April 24 -- 25\, 2026</strong>.</p>\n<p>The workshop aims to provide a forum for stimulating and constructive exchange among philosophers currently working on issues concerning normativity\, broadly construed to include: the traditional questions of&nbsp\;metaethics (and analogous questions about other normative domains)\;&nbsp\;theories of reasons\, rationality and reasoning\; the semantics and pragmatics of normative language\; the psychology of normative judgment\; and the nature of epistemic normativity. The hope is to showcase cutting-edge work in these and related areas\, providing speakers with useful feedback\, and other participants with lively presentations and conversation.</p>\n<p>There will be eight talks in total\, seven of which will be selected via an open call for abstracts and an anonymous review process\, plus a keynote address by Jane Friedman (NYU). For the seventh workshop running\, papers accepted to this year's workshop will be eligible for publication in a special issue of <em>Philosophical Studies</em>.</p>\n<p>We very much hope you'll join us in beautiful and vibrant Montreal next spring for the workshop's eight year. In addition to excellent presentations\, there will be plenty of opportunities for socializing with fellow normativity folks at a selection of Montreal's lovely restaurants and bars on each night of the event.</p>
ORGANIZER;CN=Christopher Howard;CN=Margaret Shea;CN=Alex Worsnip:
METHOD:PUBLISH
END:VEVENT
END:VCALENDAR
