BEGIN:VCALENDAR
PRODID:-//Grails iCalendar plugin//NONSGML Grails iCalendar plugin//EN
VERSION:2.0
CALSCALE:GREGORIAN
METHOD:PUBLISH
BEGIN:VEVENT
DTSTAMP:20260423T135243Z
DTSTART;TZID=America/New_York:20251121T093000
DTEND;TZID=America/New_York:20251122T170000
SUMMARY:Philosophy of Journalism Workshop
UID:20260429T163342Z-iCalPlugin-Grails@philevents-web-6b96c54f56-bljdq
TZID:America/New_York
LOCATION:Rochester\, United States
DESCRIPTION:<p>Friday\, November 21\, 2025:</p>\n<ul>\n<li>\n<p>9:30am&ndash\;9:35am: Welcome and opening remarks</p>\n</li>\n<li>\n<p>9:35am&ndash\;10:35am: Eleanor Gordon-Smith (USC\, Philosophy\, The Guardian)\, &ldquo\;The Distribution of Doubt&rdquo\;</p>\n</li>\n<li>\n<p>10:45am&ndash\;11:15am: Vanessa Schipani (Penn Center for Science\, Sustainability\, and the Media)\, &ldquo\;Rethinking Journalistic Objectivity (Or Why Journalists Can be Activists)&rdquo\;</p>\n</li>\n<li>\n<p>11:15am&ndash\;11:30am: Tea &amp\; coffee</p>\n</li>\n</ul>\n<ul>\n<li>\n<p>11:30am&ndash\;12:00pm: C.J. Oswald (University of Virginia\, Philosophy): &ldquo\;News is More than its Aims&rdquo\;</p>\n</li>\n<li>\n<p>12:00pm&ndash\;1:00pm: Lunch</p>\n</li>\n<li>\n<p>1:00pm&ndash\;2:00pm: Rub&eacute\;n Marciel (University of Geneva\, Political Science and International Relations)\, &ldquo\;In Defense of Deliberative Journalism&rdquo\; (via Zoom)</p>\n</li>\n<li>\n<p>2:20pm&ndash\;4:00pm: Panel Discussion and Q&amp\;A Session 1\, with Carrie Figdor (University of Iowa\, Philosophy\, formerly with The Associated Press)\, Justin Murphy (author of Your Children Are Very Greatly in Danger\, formerly with Democrat and Chronicle)\, and Jason Silverstein (independent journalist\, formerly with The New York Times and CBS)</p>\n</li>\n</ul>\n<p>Saturday\, November 22\, 2025:</p>\n<ul>\n<li>\n<p>9:30am&ndash\;10:30am: Viviane Fairbank (University of St Andrews and University of Stirling\, Philosophy\, co-founder of The Truth in Journalism Project)\, &ldquo\;The Responsible-Inquiry Model of Journalism&rdquo\;</p>\n</li>\n<li>\n<p>10:40am&ndash\;11:10am: Lorenzo Manuali (University of Michigan\, Ann Arbor\, Philosophy): &ldquo\;Towards a More Democratically Motivated Mass Media&rdquo\;</p>\n</li>\n<li>\n<p>11:20am&ndash\;12:20pm: Alexander Prescott-Couch (Oxford University\, Philosophy)\, &ldquo\;Explanatory and Narrative Journalism: Epistemic Functions and Democratic Value&rdquo\;</p>\n</li>\n<li>\n<p>12:20pm&ndash\;1:20pm: Lunch</p>\n</li>\n<li>\n<p>1:20pm&ndash\;3:00pm: Panel Discussion and Q&amp\;A Session 2\, with Dave Andreatta (The New York Times freelancer\; University of Rochester\, Media relations)\, Melissa Goldin (The Associated Press)\, Shohreh Laici (University of Rochester\, Scholar in exile)\, and Jim Memmott (Democrat and Chronicle\, University of Rochester\, English)</p>\n</li>\n</ul>\n
ORGANIZER;CN=Zeynep Soysal;CN=Susanna Siegel:
METHOD:PUBLISH
END:VEVENT
END:VCALENDAR
