BEGIN:VCALENDAR
PRODID:-//Grails iCalendar plugin//NONSGML Grails iCalendar plugin//EN
VERSION:2.0
CALSCALE:GREGORIAN
METHOD:PUBLISH
BEGIN:VEVENT
DTSTAMP:20260423T152041Z
DTSTART;TZID=America/New_York:20250915T230000
DTEND;TZID=America/New_York:20250915T230000
SUMMARY:Philosophy of Journalism Workshop
UID:20260429T213712Z-iCalPlugin-Grails@philevents-web-6b96c54f56-bljdq
TZID:America/New_York
LOCATION:Rochester\, United States
DESCRIPTION:<p><strong>Call for Abstracts</strong>:&nbsp\;</p>\n<p><strong>Philosophy of Journalism Workshop</strong></p>\n<p><strong>Friday\, November 21\, 2025</strong></p>\n<p><strong>University of Rochester</strong></p>\n<p>We welcome abstracts (max. 1000 words) from scholars in any field\, journalists and other media practitioners for the Philosophy of Journalism Workshop to be held at the University of Rochester on Friday\, November 21 and Saturday\, November 22\, 2025.</p>\n<p>Potential themes and questions of interest include (but are not limited to): What is journalism and what roles should it play? How has mainstream journalism been weaponized in recent years\, and how has it been attacked? On what grounds (if any) can we distinguish &ldquo\;combat&rdquo\; journalism and the traditional journalism practice of asking tough questions of powerful people who may prefer to keep information hidden? What is the difference between news and opinion journalism? In what ways (if any) should these practices be kept separate? What are epistemic outcomes of journalistic practices such as balanced reporting\, weight-of-evidence reporting\, consensus reporting\, narrative framing\, data-driven journalism etc.\, and how might these practices be reformed or enhanced?</p>\n<p>Confirmed participants include Viviane Fairbank\, Melissa Goldin\, Eleanor Gordon-Smith\, Rub&eacute\;n Marciel\, Justin Murphy\, Alexander Prescott-Couch\, Susanna Siegel\, Jason Silverstein\, Zeynep Soysal.</p>\n<p><strong>Submission Guidelines</strong>:</p>\n<ul>\n<li>\n<p>Abstracts should max. 1000 words and prepared for blind review.</p>\n</li>\n<li>\n<p>The length of the presentation should be 20 minutes\, and it will be followed by a 10 minute discussion.&nbsp\;</p>\n</li>\n<li>\n<p>Abstracts should be submitted via the following form:https://forms.gle/oRL9PjNwd9Aud34JA</p>\n</li>\n</ul>\n<p><strong>Submission Deadline</strong>: September 15\, 2025</p>\n<p><strong>Organizers</strong>:</p>\n<p>Susanna Siegel (Harvard University) and Zeynep Soysal (University of Rochester).</p>\n<p><strong>Contact Information</strong>:</p>\n<p>For questions\, please contact Zeynep Soysal (zeynep.soysal@rochester.edu).</p>
ORGANIZER;CN=Zeynep Soysal;CN=Susanna Siegel:
METHOD:PUBLISH
END:VEVENT
END:VCALENDAR
