BEGIN:VCALENDAR
PRODID:-//Grails iCalendar plugin//NONSGML Grails iCalendar plugin//EN
VERSION:2.0
CALSCALE:GREGORIAN
METHOD:PUBLISH
BEGIN:VEVENT
DTSTAMP:20260424T185107Z
DTSTART;TZID=Europe/Paris:20260604T090000
DTEND;TZID=Europe/Paris:20261024T170000
SUMMARY:Stanley Cavell at 100. An International Centennial Conference
UID:20260425T220546Z-iCalPlugin-Grails@philevents-web-6b96c54f56-bljdq
TZID:Europe/Paris
LOCATION:Roma\; Paris\; Boston\, Italy
DESCRIPTION:<p>Stanley Cavell at 100&nbsp\; An International Centennial Conference&nbsp\;&nbsp\; <br> <strong>Paris</strong>:&nbsp\;<strong>4-5 June 2026</strong>&nbsp\;| Organized by Sandra Laugier\, Universit&eacute\; Paris 1 Panth&eacute\;on Sorbonne&nbsp\; <strong>Rome: 8-9 June 2026&nbsp\;</strong>| Organized by Piergiorgio Donatelli\, Sapienza Universit&agrave\; di Roma&nbsp\; <strong>Boston: 23-24 October 2026</strong>&nbsp\;| Organized by Juliet Floyd\, Boston University&nbsp\; &nbsp\; &nbsp\;</p>\n<p>In 2026\, we mark the centenary of&nbsp\;Stanley Cavell (1926&ndash\;2026)\, one of the&nbsp\;most original and wide-ranging American philosophers of the twentieth century. Cavell&rsquo\;s work traversed traditional disciplinary boundaries&mdash\;engaging deeply with philosophy\, literature\, film\, opera\, psychoanalysis\, politics\, and both American and European traditions of thought. In the spirit of his intellectual breadth and transnational sensibility\, we are organizing a three-part international conference to celebrate his life\, work\, and legacy in Paris\, Rome\, and Boston.</p>\n<p>Why This Conference Matters</p>\n<p>Stanley Cavell transformed philosophy into an act of acknowledgment&mdash\;of self\, of others\, and of the everyday. His writings on skepticism\, language\, film\, and the ordinary remain vital at a time when trust in both language and human connection faces renewed challenges. From&nbsp\;<em>Must We Mean What We Say?</em>&nbsp\;to&nbsp\;<em>The Claim of Reason</em>\, from&nbsp\;<em>The World Viewed</em>&nbsp\;to&nbsp\;<em>Pursuits of Happiness</em>\, and through his readings of Emerson and Thoreau\, Cavell helped redefine the scope and style of philosophical writing and teaching.</p>\n<p>His engagement with Wittgenstein and Austin reinvigorated the ordinary language tradition\, while his interests in modernism\, cinema\, and American transcendentalism forged a philosophical voice that responded to&mdash\;and often transcended&mdash\;the academic context.</p>\n<p>This centennial conference will bring together philosophers\, literary scholars\, and critics to reflect on Cavell&rsquo\;s legacy and extend the conversations he began.</p>\n<p>This call for papers concerns all three installments&mdash\;Paris\, Rome\, and Boston&mdash\;of the Cavell at 100 conference.</p>\n<p>Suggested Themes:</p>\n<p>We welcome proposals that engage with the following themes or propose new directions for exploring Cavell&rsquo\;s thought.</p>\n<ul>\n<li>Wittgenstein\, Austin\, and Ordinary Language Philosophy</li>\n<li>Cavell and the Analytic Tradition</li>\n<li>Skepticism and Acknowledgment</li>\n<li>The Philosophy of Film and Popular Culture</li>\n<li>Modernism\, Literature\, and the Arts</li>\n<li>Music</li>\n<li>Shakespeare and Tragedy</li>\n<li>Psychoanalysis</li>\n<li>Emerson\, Thoreau\, and American Transcendentalism</li>\n<li>Moral Perfectionism and Ordinary Ethics</li>\n<li>Forms of Life and Anthropology</li>\n<li>Gender and the Feminist Conversation</li>\n<li>Democratic Politics</li>\n<li>The Concept of America</li>\n</ul>\n<p>Conference Foci:</p>\n<p>Paris will focus especially on Ordinary Language Philosophy\, Film\, and Popular Culture.</p>\n<p>Rome will center mainly on Ethics\, Politics\, and Forms of Life.</p>\n<p>Boston will treat primarily Philosophy and Literature\, Tragedy\, Music\, and the Idea of America.</p>\n<p>Some themes&mdash\;such as skepticism\, modernism\, the ordinary&mdash\;cut across all three conferences.</p>
ORGANIZER:
METHOD:PUBLISH
END:VEVENT
END:VCALENDAR
