BEGIN:VCALENDAR
PRODID:-//Grails iCalendar plugin//NONSGML Grails iCalendar plugin//EN
VERSION:2.0
CALSCALE:GREGORIAN
METHOD:PUBLISH
BEGIN:VEVENT
DTSTAMP:20260425T150610Z
DTSTART;TZID=Europe/Zurich:20250829T110000
DTEND;TZID=Europe/Zurich:20250830T170000
SUMMARY:Kant on provisional right
UID:20260427T123418Z-iCalPlugin-Grails@philevents-web-6b96c54f56-bljdq
TZID:Europe/Zurich
LOCATION:Avenue de l'Europe 20\, Fribourg\, Switzerland\, 1700
ORGANIZER;CN=Ralf M. Bader;CN=Micha Glaeser:
METHOD:PUBLISH
END:VEVENT
END:VCALENDAR
