BEGIN:VCALENDAR
PRODID:-//Grails iCalendar plugin//NONSGML Grails iCalendar plugin//EN
VERSION:2.0
CALSCALE:GREGORIAN
METHOD:PUBLISH
BEGIN:VEVENT
DTSTAMP:20260419T165217Z
DTSTART;TZID=Europe/London:20260528T090000
DTEND;TZID=Europe/London:20260529T170000
SUMMARY:Women at the Dawn of Analytic Philosophy
UID:20260421T094124Z-iCalPlugin-Grails@philevents-web-f5d4878dd-nv7xt
TZID:Europe/London
LOCATION:58 St Katherine's Way\, London\, United Kingdom
DESCRIPTION:<p>Full conference programme available here: https://sites.google.com/view/peterwest/events</p>
ORGANIZER;CN=Peter West:
METHOD:PUBLISH
END:VEVENT
END:VCALENDAR
