BEGIN:VCALENDAR
PRODID:-//Grails iCalendar plugin//NONSGML Grails iCalendar plugin//EN
VERSION:2.0
CALSCALE:GREGORIAN
METHOD:PUBLISH
BEGIN:VEVENT
DTSTAMP:20260421T130555Z
DTSTART;TZID=America/Chicago:20250930T230000
DTEND;TZID=America/Chicago:20250930T230000
SUMMARY:Simone Weil: Roots\, Exile\, and Migration
UID:20260423T112750Z-iCalPlugin-Grails@philevents-web-6b96c54f56-bljdq
TZID:America/Chicago
LOCATION:400 Bizzell St\, College Station\, United States\, 77840
DESCRIPTION:<p>Please submit your 250 word abstract and 100 word bio on the topic "Simone Weil: Roots\, Exile\, and Migration" or other Weil-focused topics to: awscolloquy@gmail.com by September 30 for full consideration.</p>\n<p>The AWS encourages all types of Weil-informed scholars\, artists\, thinkers\, activists\, and writers from every background and discipline to submit.</p>\n<p>For more information please visit: simoneweilsociety.org</p>\n
ORGANIZER;CN=Kathryn Lawson;CN=Benjamin Davis:
METHOD:PUBLISH
END:VEVENT
END:VCALENDAR
