BEGIN:VCALENDAR
PRODID:-//Grails iCalendar plugin//NONSGML Grails iCalendar plugin//EN
VERSION:2.0
CALSCALE:GREGORIAN
METHOD:PUBLISH
BEGIN:VEVENT
DTSTAMP:20260421T121309Z
DTSTART;TZID=Europe/Berlin:20251201T230000
DTEND;TZID=Europe/Berlin:20251201T230000
SUMMARY:Ethnographilosophy
UID:20260423T083800Z-iCalPlugin-Grails@philevents-web-6b96c54f56-bljdq
TZID:Europe/Berlin
LOCATION:Berlin\, Germany
DESCRIPTION:<p><br><strong>ETHNOGRAPHILOSOPHY</strong> &nbsp\; June 15-16\, 2026\, Freie Universit&auml\;t\, Berlin\, Germany.</p>\n<p>Organizers: Deborah M&uuml\;hlebach (FU Berlin)\, Quill Kukla (Georgetown University/Leibniz Universit&auml\;t Hannover)\, and Antoine Louette (FU Berlin) &nbsp\;</p>\n<p>How can or should philosophers incorporate their own or others' ethnographic work into their philosophical research? Does socially engaged philosophy need ethnography? What ethnographic methods can philosophers use? What creative syntheses of philosophy and ethnography are already happening? What are the distinctive ethical and epistemological issues raised by ethnographic research? Should or could there be different uses of ethnography in different subfields of philosophy\, e.g. political theory vs. epistemology? This workshop will explore the meeting points between philosophy and ethnography. All topics that bring together these two disciplines are welcome.&nbsp\;</p>\n<p>Invited speakers include Shelbi Meissner (University of Maryland)\, Lisa Guenther (Queen&rsquo\;s University)\, and Bernardo Zacka (MIT)&nbsp\; This workshop is supported by a DFG Emmy Noether grant on "Critical Agency&rdquo\; (<a target="_blank">www.criticalagency.de</a>). &nbsp\;</p>\n<p>Submissions are welcome for 30-minute presentations. Please submit a 500-word abstract and a one-paragraph bio that addresses your stage of academic career and your interest in both philosophy and ethnography\, in one pdf file\, to&nbsp\;emilia.mertens@fu-berlin.de&nbsp\;by December 1\, 2025.</p>
ORGANIZER;CN=Quill R Kukla:
METHOD:PUBLISH
END:VEVENT
END:VCALENDAR
