BEGIN:VCALENDAR
PRODID:-//Grails iCalendar plugin//NONSGML Grails iCalendar plugin//EN
VERSION:2.0
CALSCALE:GREGORIAN
METHOD:PUBLISH
BEGIN:VEVENT
DTSTAMP:20260420T164237Z
DTSTART;TZID=America/Toronto:20260427T090000
DTEND;TZID=America/Toronto:20260428T170000
SUMMARY:Inquiry Network Workshop 
UID:20260421T035240Z-iCalPlugin-Grails@philevents-web-f5d4878dd-nv7xt
TZID:America/Toronto
LOCATION:Toronto\, Canada
DESCRIPTION:<p>Toronto Metropolitan University\, in partnership with the Inquiry Network\, is hosting a two-day workshop on inquiry. In addition to our two keynote speakers\, a number of papers will be selected through an open call. Please see the CFP for more details\, or email&nbsp\;inquirynetworkgroup@gmail.com&nbsp\;with questions.</p>
ORGANIZER;CN=Arianna Falbo:
METHOD:PUBLISH
END:VEVENT
END:VCALENDAR
