BEGIN:VCALENDAR
PRODID:-//Grails iCalendar plugin//NONSGML Grails iCalendar plugin//EN
VERSION:2.0
CALSCALE:GREGORIAN
METHOD:PUBLISH
BEGIN:VEVENT
DTSTAMP:20260421T184035Z
DTSTART;TZID=America/Detroit:20260109T090000
DTEND;TZID=America/Detroit:20260109T090000
SUMMARY:19th Annual Graduate Student Philosophy Conference
UID:20260424T025547Z-iCalPlugin-Grails@philevents-web-6b96c54f56-bljdq
TZID:America/Detroit
LOCATION:Kalamazoo\, United States
DESCRIPTION:<p>On March 20-21\, 2026\, the Western Michigan University Graduate Student Association of Philosophers (GSAP) will host its 19th Annual Graduate Student Philosophy Conference. The conference will be fully in-person\, and will have a (very) broad theme on the philosophy of science\, which will include (but not be limited to) the following areas: history and philosophy of science\, philosophy of physics and cosmology\, cognitive science\, philosophy of medicine/bioethics\, scientific metaphysics\, epistemology of science\, and decision theory. In general\, we will not be picky with topics insofar as they are somewhere close to the broad theme.&nbsp\;</p>\n<p>We are excited to be joined by Robert DiSalle of the University of Western Ontario and Robyn Bluhm of Michigan State University as our two keynote speakers. We are also happy to be joined by our WMU alumnus speaker\, Jared Hanson-Park of Texas A&amp\;M University\, who graduated from our program in 2017 and subsequently received their PhD in philosophy from the University of Miami in 2022.&nbsp\;</p>\n<p>Breakfast\, lunch\, and dinner will be provided during the conference.&nbsp\;</p>\n<p><strong>SUBMISSION GUIDELINES:&nbsp\;</strong></p>\n<p>Submissions must be prepared for anonymous review\, and should not exceed 3500 words (not including abstract\, footnotes\, and references). Please include the paper's word count on the title page. Please accompany your submission with a separate document including the institution you are affiliated with\, the paper's title\, and an abstract of 350 words or less.&nbsp\;</p>\n<p>Please email submissions to the following address: nbs4769@wmich.edu.&nbsp\;</p>
ORGANIZER:
METHOD:PUBLISH
END:VEVENT
END:VCALENDAR
