BEGIN:VCALENDAR
PRODID:-//Grails iCalendar plugin//NONSGML Grails iCalendar plugin//EN
VERSION:2.0
CALSCALE:GREGORIAN
METHOD:PUBLISH
BEGIN:VEVENT
DTSTAMP:20260425T013127Z
DTSTART;TZID=Europe/Bucharest:20251009T100000
DTEND;TZID=Europe/Bucharest:20251010T170000
SUMMARY:Enactive approaches to LLM and human interaction
UID:20260426T103509Z-iCalPlugin-Grails@philevents-web-6b96c54f56-bljdq
TZID:Europe/Bucharest
LOCATION:University of Bucharest\, Faculty of Philosophy\, Bucharest\, Romania
DESCRIPTION:<p>The conference &ldquo\;<strong>Enactive approaches to LLM and human interaction</strong>&rdquo\; is part of&nbsp\;<strong>"The&nbsp\;effects&nbsp\;of&nbsp\;LLM&nbsp\;interaction on TOM in digital and virtual environments"</strong>&nbsp\;ICUB grant in enhancing institutional performance at the University of Bucharest\, gathering a research team from philosophy\, linguistics\, cognitive psychology and evolutionary biology. The event will take place&nbsp\;<strong>9-10 October</strong>\, between 10-20 PM\, local time for Bucharest\, Romania\, on October 9th and 09:00 -13:00 on October 10th.</p>\n<p>Regular presentations will be <strong>30 minutes long\, followed by 15 minutes long Q&amp\;A.</strong></p>\n<p>It will have a&nbsp\;<strong>mixed format</strong>\, in that speakers may choose whether they present online only or face to face at the event's location (if so\, their session will enjoy a live audience\, but it will also be streamed to remote participants).</p>\n<p>We encourage MA students\, as well as early PhD's and postdocs\, to contribute research abstracts related to the event's topic areas. Abstracts should be written in English and should not exceed 300 words. Abstracts will receive full consideration if sent before <strong>September 27th\, 2025</strong> at the following address: ubphilosophymasters@gmail.com</p>\n<p>We welcome papers that address (but are not limited to) the following issues:</p>\n<p>Can large language models (LLMs) be genuine participants in social cognition?</p>\n<p>&middot\;&nbsp\;&nbsp\;&nbsp\;&nbsp\;&nbsp\;&nbsp\; What misleads us into thinking they might be (claims such as &ldquo\;LLMs have developed theory of mind&rdquo\;\, &ldquo\;LLMs have more empathy than human agents&rdquo\;)?</p>\n<p>&middot\;&nbsp\;&nbsp\;&nbsp\;&nbsp\;&nbsp\;&nbsp\; Is it that anthropomorphism and distinguishing social interaction from social cognition are the wrong framework? Are LLMs linguistic agents? If not\, what are they\, models &ndash\; and of what?</p>\n<p>&middot\;&nbsp\;&nbsp\;&nbsp\;&nbsp\;&nbsp\;&nbsp\; What does &ldquo\;talking&rdquo\; to a LLM mean?&nbsp\; What are the text outputs of LLMs?</p>\n<p>&middot\;&nbsp\;&nbsp\;&nbsp\;&nbsp\;&nbsp\;&nbsp\; Is there any shared ground between LLMs and their human interlocutors? Do such textual encounters realize &ldquo\;narrative practices&rdquo\;? Or does narration\, just like talking\, change meaning and apply more broadly with the emergence of artificial text production?</p>\n<p>&middot\;&nbsp\;&nbsp\;&nbsp\;&nbsp\;&nbsp\;&nbsp\; What are the costs and benefits of assuming LLMs are linguistic agents? How does this bear on &ldquo\;therapy&rdquo\; bots\, and why could the &ldquo\;interaction&rdquo\; between a LLM and a person (not) be considered &ldquo\;therapy&rdquo\;? Do LLMS &ldquo\;care&rdquo\;\,&nbsp\;and&nbsp\;need&nbsp\;they?</p>\n<p>All submissions will go through a process of blind peer review. (Please write your identifying details in the body of the email\, and leave the attached abstract anonymized.)</p>\n<p>We intend notifications of acceptance for the abstracts to be sent <strong>out on or before September 30th\, 2025. </strong>The conference programme will be announced as soon as review is completed. For any questions\, please don't hesitate to email: ubphilosophymasters@gmail.com</p>\n<p><strong>&nbsp\;&nbsp\;</strong></p>\n<p><strong>Conference Programme</strong></p>\n<p><strong>Thursday\, October 9</strong></p>\n<p><strong>&nbsp\;</strong></p>\n<p><strong>10:00 &ndash\; 10:15 Opening remarks</strong></p>\n<p><strong>10:15 &ndash\; 11:05 Zuzanna Rucinska (University of Antwerp). Making sense with (digital) objects - enactive approach to introspecting and&nbsp\;therapy&nbsp\;bots</strong></p>\n<p><strong>11:05 &ndash\; 11:45 Vidar Bratt (Lund University). What would it take for LLMs to become experts?</strong></p>\n<p><strong>11:45 </strong><strong>-13:20 Lunch Break</strong></p>\n<p><strong>&nbsp\;</strong></p>\n<p><strong>13:20 (online) Saskia Neumann (E&ouml\;tv&ouml\;s Lorand University). Can AI extend its mind?</strong></p>\n<p><strong>14:00 Alexandru Dragomir (University of Bucharest). On moral expertise and the possibility of artificial moral experts</strong></p>\n<p><strong>14:40 David Urzica (University of Bucharest). LLMs and their ToM Skills</strong></p>\n<p><strong>15:20 Paula Oliveira Silva and Rituparna Roy (University of Porto). What Kind of Thinker LLM Could Possibly Be?</strong></p>\n<p><strong>&nbsp\;</strong></p>\n<p><strong>16:00 - 16:10 Break</strong></p>\n<p><strong>&nbsp\;</strong></p>\n<p><strong>16:10 (online) Seth Rojas\, Demetrio Cantu-Alanis\, and Jose Eduardo Perez Palomo (University of Texas Rio Grande Valley)&nbsp\;Should LLMs be treated as agents in Psychotherapy? An Enactivist Appraisal</strong></p>\n<p><strong>16:50 (online) Duygu Aktas (University of Miami). Can Large Language Models Have Meaningful Communications?</strong></p>\n<p><strong>17:30 (online) Daniel Shussett and Shaun Respess (North Carolina State University).&nbsp\;An Enactivist Approach to Intersubjective Trust in Superintelligent Social Robots</strong></p>\n<p><strong>18:10 -18:30 Break</strong></p>\n<p><strong>&nbsp\;</strong></p>\n<p><strong>18:30 KEYNOTE: Daniel Hutto (University of Wollongong)- Thinking About and With AI</strong></p>\n<p><strong></strong><strong>&nbsp\;</strong></p>\n<p><strong>Friday\, October 10</strong></p>\n<p><strong>10:00 Mircea Dumitru (University of Bucharest). How we talk about people's opinions &ndash\; critical considerations on the paratactic interpretation of indirect speech and the attribution of propositional attitudes.</strong></p>\n<p><strong>10:40 (online) Leonardo Santa Maria (UCL London). Rethinking LLMs: From Anthropomorphic Evaluation to Infrastructural Transformation.</strong></p>\n<p><strong>11:20 (online) Nicola Weiss (University of Edinburgh).</strong><strong>Do U </strong></p>\n<p><strong>12:00- 12:30 Break</strong></p>\n<p><strong>12.30 -13:45 Roundtable</strong></p>\n<p><strong>(Ana Cimpoieru\, Elena Roşu\, Daniel Stancu\, Micah Pimaro Thomas\, Anca Moraru\, Alexandra Ioana Din\,&nbsp\; Costin Stegariu)</strong></p>\n<p><strong>13:45 Concluding Remarks</strong></p>\n<p><strong>&nbsp\;</strong></p>
ORGANIZER;CN=Sandra-Catalina Branzaru;CN="Andrei Mărăşoiu":
METHOD:PUBLISH
END:VEVENT
END:VCALENDAR
