BEGIN:VCALENDAR
PRODID:-//Grails iCalendar plugin//NONSGML Grails iCalendar plugin//EN
VERSION:2.0
CALSCALE:GREGORIAN
METHOD:PUBLISH
BEGIN:VEVENT
DTSTAMP:20260420T151404Z
DTSTART;TZID=Asia/Shanghai:20260403T090000
DTEND;TZID=Asia/Shanghai:20260405T170000
SUMMARY:The 5th Tsinghua Interdisciplinary Workshop on Logic\, Language and Meaning "Modality in Logic and Language"
UID:20260420T225749Z-iCalPlugin-Grails@philevents-web-f5d4878dd-nv7xt
TZID:Asia/Shanghai
LOCATION:Tsinghua University\, Beijing\, China
DESCRIPTION:<p>The TLLM workshops aim to bring together logicians\, philosophers\, and linguists around a specific theme of common interest. For the 2026 event\, the theme is unusually wide\, and we welcome contributions on any general or particular aspect of the modalities in logic or language.</p>
ORGANIZER;CN="Dag Westerståhl";CN=Jialiang Yan;CN=Mingming Liu;CN=Ting Xu:
METHOD:PUBLISH
END:VEVENT
END:VCALENDAR
