BEGIN:VCALENDAR
PRODID:-//Grails iCalendar plugin//NONSGML Grails iCalendar plugin//EN
VERSION:2.0
CALSCALE:GREGORIAN
METHOD:PUBLISH
BEGIN:VEVENT
DTSTAMP:20260420T095519Z
DTSTART;TZID=Europe/Paris:20260601T000000
DTEND;TZID=Europe/Paris:20260601T000000
SUMMARY:International Conference: “Cornelius Castoriadis (1997-2027) : Thirty Years Later”
UID:20260424T190853Z-iCalPlugin-Grails@philevents-web-f5d4878dd-nv7xt
TZID:Europe/Paris
LOCATION:Trie-sur-Baïse\, France
DESCRIPTION:<p><strong>Call for papers</strong></p>\n<p><strong>International Conference: &ldquo\;Cornelius Castoriadis (1997-2027) : Thirty Years Later&rdquo\;</strong></p>\n<p>Trie-sur-Ba&iuml\;se (Hautes-Pyr&eacute\;n&eacute\;es\, 65\, France)</p>\n<p>October 27\, 28 &amp\; 29\, 2027</p>\n<p><strong>Presentation</strong></p>\n<p>In 2027\, we will mark thirty years since the passing of Cornelius Castoriadis (1922-1997)\, a singular thinker whose multifaceted work continues to shape contemporary intellectual thought. Philosopher\, economist\, psychoanalyst\, political theorist\, and activist\, he developed a powerful and original reflection on freedom\, creation\, the institution of society\, and both individual and collective autonomy. From his younger days in Greece\, through Socialisme ou Barbarie\, to his passing\, his intellectual journey crossed and challenged disciplinary and ideological boundaries. This international conference aims to reexamine\, three decades after his death\, both the intellectual legacy of the Greek philosopher and the relevance of his conceptual tools for thinking about today&rsquo\;s society. In the face of the challenges of our time\, Castoriadis&rsquo\; thought offers valuable resources to question the very foundations of our societies\, political action\, and philosophical inquiry.</p>\n<p><strong>Objectives</strong></p>\n<p>This conference is neither commemorative nor hagiographic. Its purpose is to revive the radical dimensions of Castoriadian thought by engaging it with contemporary challenges\, exploring its internal tensions\, questioning its assumptions\, and envisioning its possible futures. Since elucidation was at the heart of Castoriadis&rsquo\; project of autonomy\, it will serve as the guiding force for our discussions\, thirty years later. Fundamentally\, this conference seeks to:</p>\n<ul>\n<li>\n<p>Encourage renewed reading of Castoriadis across different fields of knowledge.</p>\n</li>\n<li>\n<p>Engage his thought in a dialogue with contemporary issues.</p>\n</li>\n<li>\n<p>Explore the practical uses of his work in social movements\, education\, clinical practices\, and democratic experimentation.</p>\n</li>\n<li>\n<p>Map the intellectual lineages\, as well as the productive critiques and reinterpretations of his thought\, both in France and internationally.</p>\n</li>\n</ul>\n<p><strong><br></strong></p>\n<p><strong>Thematic Areas</strong></p>\n<p>1. Castoriadis and the Relevance of Politics Today</p>\n<ul>\n<li>\n<p>New social movements</p>\n</li>\n<li>\n<p>Decolonial and Postcolonial studies</p>\n</li>\n<li>\n<p>Gender and its institution</p>\n</li>\n</ul>\n<p>2. Castoriadis in his Time</p>\n<ul>\n<li>\n<p>The experience of intellectual journals and the collective dimension of thought</p>\n</li>\n<li>\n<p>Castoriadis and his contemporaries</p>\n</li>\n<li>\n<p>Engagement and refusals in scientific debates of his time</p>\n</li>\n</ul>\n<p>3. Castoriadis: Nature\, Technology\, Ecology</p>\n<ul>\n<li>\n<p>Autonomy\, complexity\, and self-organisation</p>\n</li>\n<li>\n<p>The Project of autonomy and technological transformations (AI\, NBIC\, etc.)</p>\n</li>\n<li>\n<p>Political Ecology: a renewal of the project of autonomy</p>\n</li>\n</ul>\n<p>4. Castoriadis and Language</p>\n<ul>\n<li>\n<p>Social creation through language</p>\n</li>\n<li>\n<p>The institution of meaning and Castoriadis&rsquo\; critique of structuralism</p>\n</li>\n<li>\n<p>Diachrony and Synchrony : Temporalities of language\, temporalities of the social</p>\n</li>\n</ul>\n<p>5. Castoriadis Facing the War</p>\n<ul>\n<li>\n<p>Critique of instrumental rationality</p>\n</li>\n<li>\n<p>Castoriadis and Geopolitics</p>\n</li>\n<li>\n<p>History as a site and stake of creation</p>\n</li>\n</ul>\n<p><strong>Submission Guidelines</strong></p>\n<p>Proposals for papers (title\, abstract of 300 to 500 words\, indicative bibliography\, 5 keywords\, short bio) should be sent by June 1\, 2026\, to the following addresses: Guillaume Plin ( gplin@parisnanterre.fr)\; Savvas Orfanos (savvas.orfanos@gmail.com)\; Emile Le Pessot (elepessot@gmail.com)\; Quentin Mur Rodriguez (quentinmur@hotmail.fr). Presentations can be made in <strong>French\, English or Spanish</strong>. Selected contributions may be published in Les Nouveaux Cahiers Castoriadis\, published by Classiques Garnier.</p>\n<p><strong>Scientific Organisation</strong></p>\n<p>Quentin Mur Rodriguez (Sociologist\, University of Ottawa &amp\; University Toulouse Jean Jaur&egrave\;s)\, Emile Le Pessot (Historian\, EHESS)\, Guillaume Plin (Philosopher\, University Paris-Nanterre)\, Savvas Orfanos (Philosopher\, University Paris 1 Panth&eacute\;on-Sorbonne)</p>\n<p><strong>Scientific Committee</strong></p>\n<p>St&eacute\;phane Vibert\, Nicolas Piqu&eacute\;\, Philippe Caumi&egrave\;res\, Florence Giust-Desprairies\, Olivier Fressard\, Thibault Tranchant\, Gilles Labelle\, Alexandros Schismenos\, Nicolas Poirier</p>\n<p><strong>Provisional Timeline</strong></p>\n<ul>\n<li>\n<p>Submissions deadline : June 1\, 2026</p>\n</li>\n<li>\n<p>Notification of acceptance : September 1\, 2026</p>\n</li>\n<li>\n<p>Final program release : November 1\, 2026</p>\n</li>\n<li>\n<p>Conference dates : October 27-29\, 2027</p>\n</li>\n</ul>
ORGANIZER:
METHOD:PUBLISH
END:VEVENT
END:VCALENDAR
