BEGIN:VCALENDAR
PRODID:-//Grails iCalendar plugin//NONSGML Grails iCalendar plugin//EN
VERSION:2.0
CALSCALE:GREGORIAN
METHOD:PUBLISH
BEGIN:VEVENT
DTSTAMP:20260420T060752Z
DTSTART;TZID=Europe/Berlin:20260619T093000
DTEND;TZID=Europe/Berlin:20260620T170000
SUMMARY:FrankMeta.8
UID:20260424T025434Z-iCalPlugin-Grails@philevents-web-f5d4878dd-nv7xt
TZID:Europe/Berlin
LOCATION:Frankfurt am Main\, Germany
DESCRIPTION:<p>FrankMeta is the annual meta-ethics conference at the Frankfurt School of Finance &amp\; Management. It&nbsp\;is designed to bring together philosophers working on normativity and metanormativity\, broadly construed. We invite submissions on new work in the metaphysics\, (meta)semantics\, epistemology and psychology of normative discourse\, as well as papers on reasons and rationality.</p>\n<p>The conference will run over two days and provide plenty of time for discussion and exchange.</p>
ORGANIZER;CN="Sebastian Köhler";CN=Christine Tiefensee:
METHOD:PUBLISH
END:VEVENT
END:VCALENDAR
