BEGIN:VCALENDAR
PRODID:-//Grails iCalendar plugin//NONSGML Grails iCalendar plugin//EN
VERSION:2.0
CALSCALE:GREGORIAN
METHOD:PUBLISH
BEGIN:VEVENT
DTSTAMP:20260420T212953Z
DTSTART;TZID=Europe/Madrid:20251215T234500
DTEND;TZID=Europe/Madrid:20251215T234500
SUMMARY:STAL 2026
UID:20260421T072731Z-iCalPlugin-Grails@philevents-web-6b96c54f56-bljdq
TZID:Europe/Madrid
LOCATION:Carmen de la Victoria\, Cta. del Chapiz\, 9\, Granada\, Spain\, 18010
DESCRIPTION:<p>We invite submission of abstracts for 50 min talks (30-minute presentation + 20 minutes for Q&amp\;A). Abstracts should be anonymous\, the main text should be 2 pages in length\, with an optional third page for glossed examples\, references\, or figures (Note: use a third page for examples only when they are non-English examples and are glossed.) Abstracts are due before December 15\, 2025 and should be submitted via Google Forms at this link: https://forms.gle/W6McPvUbAWnkPhX79. We expect to notify authors of their acceptance by February. &nbsp\; (NOTE: We are aware that mentioning terms like slurs is a controversial issue. We will not\, however\, take a stance on this matter\, but we'd like to ask submitters to be sensitive to the issue.) &nbsp\; We especially encourage people from underrepresented groups to apply. &nbsp\;</p>\n<p><strong>Special session</strong></p>\n<p><strong></strong>STAL-2026 will include a special session entitled Valence asymmetries in expressive language\, supported by the ERC Advanced Grant VALENCE ASYMMETRIES n&deg\;101142133 (PI: Isidora Stojanovic). We invite contributions on issues concerned with the positive\, negative or ambivalent valence of expressive terms. In particular\, we encourage:</p>\n<ul>\n<li>empirical studies (experimental\, corpus and field studies) concerned with the valence of expressive terms (incl. slurs\, pejoratives\, amelioratives)\;</li>\n<li>analyses of how the valence of a term can shift (as\, for example\, in slur reclamation).</li>\n</ul>\n<p>The ERC Grant can pay for the travel (up to 500&euro\;) of the selected contributors (NB: only one contributor per submission can be granted funding). Please indicate whether you want your contribution to be considered for the special session. (Submissions deemed insufficiently relevant to this session will still be considered for the general session.) For more information about the Valence Asymmetries project (ERC Advanced Grant)\, visit https://www.upf.edu/web/valence-asymmetries.</p>
ORGANIZER:
METHOD:PUBLISH
END:VEVENT
END:VCALENDAR
