BEGIN:VCALENDAR
PRODID:-//Grails iCalendar plugin//NONSGML Grails iCalendar plugin//EN
VERSION:2.0
CALSCALE:GREGORIAN
METHOD:PUBLISH
BEGIN:VEVENT
DTSTAMP:20260423T145210Z
DTSTART;TZID=Europe/Sofia:20140916T050000
DTEND;TZID=Europe/Sofia:20140920T130000
SUMMARY:12th world Congress of Semiotics Sofia 2014\, 16-20 September New Bulgarian University
UID:20260429T201826Z-iCalPlugin-Grails@philevents-web-6b96c54f56-bljdq
TZID:Europe/Sofia
LOCATION:New Bulgarian University\, Sofia\, Bulgaria
ORGANIZER:
METHOD:PUBLISH
END:VEVENT
END:VCALENDAR
