BEGIN:VCALENDAR
PRODID:-//Grails iCalendar plugin//NONSGML Grails iCalendar plugin//EN
VERSION:2.0
CALSCALE:GREGORIAN
METHOD:PUBLISH
BEGIN:VEVENT
DTSTAMP:20260421T212855Z
DTSTART;TZID=Europe/Berlin:20261104T120000
DTEND;TZID=Europe/Berlin:20261107T170000
SUMMARY:XV. International Bauhaus Colloquium | Politics of Research
UID:20260424T132857Z-iCalPlugin-Grails@philevents-web-6b96c54f56-bljdq
TZID:Europe/Berlin
LOCATION:Geschwister-Scholl-Str. 8\, Weimar\, Germany\, 99423
DESCRIPTION:<p>XV. International Bauhaus-Colloquium | Politics of Research</p>\n<p>Abstract</p>\n<p>Research at universities is inherently political\, a fact made all the more evident during times of intensifying social and political polarisation when politicians denounce universities as &raquo\;enemies&laquo\;. But also within academia itself\, the constitution\, purposes\, and approaches of research are brought into question. The XV. International Bauhaus Colloquium invites researchers from the humanities\, arts\, and architecture\, from across different discourses and geographies to critically examine the politics that underlie\, shape\, or result from research. As an interdisciplinary academic event\, it aims to create a platform for exploring how research deals with power relations\, institutional structures\, funding systems\, epistemologies\, socio-cultural contexts\, and dynamic publics. Politics of research manifest themselves on the level of specific research projects as well as on the level of procedures and frameworks&nbsp\;as such. In addition to issues of access\, representation\, and ethics\, the Colloquium will address critical and criticising practices. It will also highlight the ways in which research may both reinforce and challenge dominant hierarchies.</p>\n<p>For more information please visit: http://bauhaus-kolloquium.de</p>
ORGANIZER:
METHOD:PUBLISH
END:VEVENT
END:VCALENDAR
