BEGIN:VCALENDAR
PRODID:-//Grails iCalendar plugin//NONSGML Grails iCalendar plugin//EN
VERSION:2.0
CALSCALE:GREGORIAN
METHOD:PUBLISH
BEGIN:VEVENT
DTSTAMP:20260420T221232Z
DTSTART;TZID=Europe/Brussels:20260625T090000
DTEND;TZID=Europe/Brussels:20260626T170000
SUMMARY:Monist special issue workshop: Philosophy of Taxation
UID:20260421T101652Z-iCalPlugin-Grails@philevents-web-6b96c54f56-bljdq
TZID:Europe/Brussels
LOCATION:Burgemeester Oudlaan 50\, Rotterdam\, Netherlands
DESCRIPTION:<p>*Confirmed speakers*</p>\n<ul>\n<li>Will Abel (IMF) &amp\; Tom Parr (University of Warwick) &ndash\; on egalitarian land taxation</li>\n<li>Paul Bou-Habib (University of Essex) &amp\; Serena Olsaretti (ICREA &ndash\; Pompeu Fabra University) &ndash\; on exit taxes</li>\n<li>Huub Brouwer (Tilburg University) &ndash\; on tax mix principles</li>\n<li>Tsilly Dagan (Oxford University) &amp\; Lisa Herzog (Groningen University) &ndash\; on taxation and the spatial and temporal scope of work</li>\n<li>Paul Forrester (Wharton\, University of Pennsylvania) - on grandfathering in taxation</li>\n<li>Anca Gheaus (Central European University) &ndash\; on sharing the costs of childbearing and childrearing through the tax system</li>\n<li>Joseph Heath (University of Toronto) &ndash\; on tax fairness as a constraint on tax policy</li>\n<li>Hillel Steiner (University of Manchester) - on UBI and the case for land value taxation</li>\n<li>Ezekiel Vergara (University of Pennsylvania) &ndash\; on tourist taxation</li>\n<li>Edoardo Vignocchi (University of Pavia) &ndash\; on taxation as a constitutive practice and the buy\, borrow\, die strategy</li>\n</ul>\n<p>*Topic*</p>\n<p>Taxation was largely overlooked in 20th&nbsp\;century political philosophy. This is a shame\, because taxes are a powerful driver of human behaviour and mould the world around us. Think only of the window taxes that shaped architecture in European countries in ways still visible hundreds of years onwards. In the 21st&nbsp\;century\, philosophers have fortunately started to engage with questions of taxation again. However\, an important and normatively significant issue that has not received sufficient attention yet is the choice of tax base: what should be taxed?</p>\n<p>Many countries predominantly tax labour income and consumption. Developments in the real economy &ndash\; including slower economic growth\, labour market polarisation\, and the growing concentration of wealth &ndash\; have put a strain on fiscal policy formed largely in the years just after 1945. Moreover\, even though taxation has strong effects on human behaviour\, governments have so far only used it sparsely to address contemporary challenges such as climate change\, disruptive technological development\, and demographic ageing. These changes and challenges suggest a need to reform the tax base for it to be fit for purpose.</p>\n<p>The aim of the workshop\, and the special issue that will result from it\, is to contribute to the cutting-edge of philosophical inquiry into taxation by studying which tax bases can help address 21st&nbsp\;century challenges.</p>\n<p>*Special issue of the Monist*</p>\n<p>Participants in the workshop need to submit a full draft to the organizers by 31 May 2026. All papers presented at the workshop will be considered for inclusion in a special issue of the Monist\, that will be published in April 2028 (volume 111\, issue 2).</p>\n<p>*Location*</p>\n<p>The workshop takes place on the Erasmus University Rotterdam campus.</p>\n<p>*Questions*</p>\n<p>Any questions about the workshop and the special issue should be addressed to Huub Brouwer (h.m.brouwer@tilburguniversity.edu).&nbsp\;</p>
ORGANIZER;CN=Huub Brouwer;CN=Daniel Halliday:
METHOD:PUBLISH
END:VEVENT
END:VCALENDAR
