BEGIN:VCALENDAR
PRODID:-//Grails iCalendar plugin//NONSGML Grails iCalendar plugin//EN
VERSION:2.0
CALSCALE:GREGORIAN
METHOD:PUBLISH
BEGIN:VEVENT
DTSTAMP:20260423T170749Z
DTSTART;TZID=America/New_York:20260416T150000
DTEND;TZID=America/New_York:20260418T170000
SUMMARY:Confronting the Ethics of Artificial Intelligence
UID:20260430T030812Z-iCalPlugin-Grails@philevents-web-6b96c54f56-bljdq
TZID:America/New_York
LOCATION:800 Linden Street\, Scranton\, United States\, 18510
DESCRIPTION:<p>The University of Scranton\, a Catholic and Jesuit University with a strong liberal arts tradition\, invites scholars\, practitioners\, students\, and professionals to participate in a National Interdisciplinary Conference on <em>Confronting the Ethics of Artificial Intelligence</em>\, scheduled for April 16\, 17\, and 18\, 2026.</p>\n<p>Artificial Intelligence (AI) is reshaping every dimension of our lives. It has clear impacts on social\, economic\, educational\, scientific\, artistic\, and ecological spheres. The potential for AI is immense\, but its adoption and use raise critical ethical questions. Ranging from algorithmic bias\, ambient surveillance\, labor displacement\, the future of education\, and its impact on human creativity and fulfillment. As it stands\, the AI landscape demands discernment and ethical reflection.</p>\n<p>This conference seeks to bring together diverse voices to explore\, critique\, and reimagine AI through the lens of ethics\, understood broadly to include philosophical\, religious\, cultural\, legal\, medical\, environmental\, artistic\, and social perspectives.</p>
ORGANIZER;CN=George Aulisio:
METHOD:PUBLISH
END:VEVENT
END:VCALENDAR
