BEGIN:VCALENDAR
PRODID:-//Grails iCalendar plugin//NONSGML Grails iCalendar plugin//EN
VERSION:2.0
CALSCALE:GREGORIAN
METHOD:PUBLISH
BEGIN:VEVENT
DTSTAMP:20260423T154641Z
DTSTART;TZID=America/New_York:20251114T234500
DTEND;TZID=America/New_York:20251114T234500
SUMMARY:Confronting the Ethics of Artificial Intelligence
UID:20260429T224421Z-iCalPlugin-Grails@philevents-web-6b96c54f56-bljdq
TZID:America/New_York
LOCATION:800 Linden Street\, Scranton\, United States\, 18510
DESCRIPTION:<p><strong>About the Conference</strong></p>\n<p>The University of Scranton\, a Catholic and Jesuit University with a strong liberal arts tradition\, invites scholars\, practitioners\, students\, and professionals to participate in a National Interdisciplinary Conference on <em>Confronting the Ethics of Artificial Intelligence</em>\, scheduled for April 16\, 17\, and 18\, 2026.</p>\n<p>Artificial Intelligence (AI) is reshaping every dimension of our lives. It has clear impacts on social\, economic\, educational\, scientific\, artistic\, and ecological spheres. The potential for AI is immense\, but its adoption and use raise critical ethical questions. Ranging from algorithmic bias\, ambient surveillance\, labor displacement\, the future of education\, and its impact on human creativity and fulfillment. As it stands\, the AI landscape demands discernment and ethical reflection.</p>\n<p>This conference seeks to bring together diverse voices to explore\, critique\, and reimagine AI through the lens of ethics\, understood broadly to include philosophical\, religious\, cultural\, legal\, medical\, environmental\, artistic\, and social perspectives.</p>\n<p><strong>Conference Themes</strong></p>\n<p>We invite submissions that engage with the ethics of artificial intelligence in both specific and general applications. Topics may include\, but are not limited to:</p>\n<ul>\n<li><strong>Arts &amp\; Humanities</strong>: AI in creativity\, authorship\, performance\, and cultural identity.</li>\n<li><strong>Business</strong>: Automation\, labor ethics\, and corporate responsibility.</li>\n<li><strong>Education</strong>: AI in teaching\, learning\, and research integrity\; utilizing AI for student success initiatives and learning accommodations\; ethical applications and questions related to AI in scholarly activity\; AI in K-12 education.</li>\n<li><strong>Environmental Impact</strong>: AI and sustainability\, climate modeling\, and AI resource consumption.</li>\n<li><strong>Healthcare &amp\; Medicine</strong>: Projection models for patient disease development\; treatment individuation\; individualized medicine\; bias in treatment.</li>\n<li><strong>Law &amp\; Policy</strong>: Privacy and data usage\; the legitimacy of AI in governance. &nbsp\;</li>\n<li><strong>Library &amp\; Information Science: </strong>AI and the new digital divide\; algorithimic bias\; AI accuracy\, mis- and dis-information.</li>\n<li><strong>Philosophy</strong>: AI as moral agents\; AI&rsquo\;s effect on human autonomy and decision making\; human-AI interfaces and the locus of moral responsibility.</li>\n<li><strong>Science</strong>: AI fabrication of scientific data or references\; legitimacy of sources for AI training\; drug discovery\; intellectual property of data from AI discoveries. </li>\n<li><strong>Theology</strong>: AI in moral theology and bioethics\; AI applications in Catholic healthcare\; theological responses to AI development\, including those offered in light of <em>Antiqua et nova</em> (2025).</li>\n<li><strong>Social Justice &amp\; Equity</strong>: Accessibility\, bias\, and discrimination in AI systems.</li>\n<li><strong>Social Sciences: </strong>AI as a research tool for data analysis and methodology\; AI systems as social entities and their behavioral impacts\; algorithmic bias in social research\; AI's effects on human social structures and interactions.</li>\n</ul>\n<p><strong>Conference Format</strong></p>\n<p>We envision the final program to include:</p>\n<ul>\n<li><strong>Keynote Lecture</strong> by a leading voice in AI and ethics.</li>\n<li><strong>Plenary Panels</strong> featuring interdisciplinary perspectives.</li>\n<li><strong>Paper Presentations</strong> (20-minute talks with 10 minutes of Q&amp\;A) organized by theme.</li>\n<li><strong>Roundtables and Workshops</strong> on emerging ethical challenges.</li>\n<li><strong>Seven-minute Lightning Talks</strong> for students and early-stage projects.</li>\n<li><strong>Posters </strong>showcasing research\, case studies\, and practical applications.</li>\n</ul>\n<p><strong>Submission Guidelines</strong></p>\n<p>We welcome proposals for individual papers\, panels\, workshops\, posters\, or creative presentations. Submissions should include:</p>\n<ol>\n<li><strong>Proposed Title</strong></li>\n<li><strong>Abstract</strong> (250-300 words) clearly outlining the project and its ethical dimension(s).<strong></strong></li>\n<li><strong>Disciplinary Alignment or Keywords</strong> (up to 5 keywords) that help to categorize your proposal.</li>\n<li><strong>Format Preference</strong> (paper\, panel\, interactive discussion/workshop\, or 7-minute lightning talk).</li>\n<li><strong>Short Bio</strong> (100-300 words) for each presenter\, including institutional affiliation.</li>\n</ol>\n<p>All submissions will undergo <strong>blind peer review</strong> by the interdisciplinary planning committee.</p>\n\n<p>Please submit the above information to <a href="mailto:AI-Ethics@Scranton.edu">AI-Ethics@Scranton.edu</a>.&nbsp\;</p>
ORGANIZER;CN=George Aulisio:
METHOD:PUBLISH
END:VEVENT
END:VCALENDAR
