BEGIN:VCALENDAR
PRODID:-//Grails iCalendar plugin//NONSGML Grails iCalendar plugin//EN
VERSION:2.0
CALSCALE:GREGORIAN
METHOD:PUBLISH
BEGIN:VEVENT
DTSTAMP:20260420T060855Z
DTSTART;TZID=America/Vancouver:20260601T090000
DTEND;TZID=America/Vancouver:20260604T170000
SUMMARY:Society for Existential and Phenomenological Theory & Culture (EPTC/TCEP) Annual Conference
UID:20260424T030111Z-iCalPlugin-Grails@philevents-web-f5d4878dd-nv7xt
TZID:America/Vancouver
LOCATION:Victoria\, Canada
DESCRIPTION:<p>The Annual meeting of the EPTC will be held June 1-4\, 2026\, at the University of Victoria in Victoria\, British Columbia.</p>\n<p>Founded in 2003\, the Society for Existential and Phenomenological Theory and Culture (EPTC) is a Canadian-based international academic society that aims to promote rigorous scholarship drawn from the traditions of existentialism and phenomenology\, broadly construed. In addition to theoretical work on core philosophical issues and figures\, we are especially interested in providing a forum for showcasing practical and applied research\, as well as cross- and interdisciplinary developments of existential and phenomenological themes.</p>\n<p>Day One of our conference will be reserved for papers exploring the foundations and pre-histories of phenomenology and/or existentialism. Please indicate in your submission if you wish your paper to be considered as contribution to this discussion. The remainder of the conference is open to submissions on any scholarship of&nbsp\;existential and phenomenological themes\,&nbsp\;theoretical\, practical\, or cross- and interdisciplinary.</p>\n\n<p>La r&eacute\;union annuelle de la TCEP aura lieu du 1er au 4 juin 2026 &agrave\; l&rsquo\;Universit&eacute\; de Victoria\, en Colombie-Britannique</p>\n<p>Fond&eacute\;e en 2003\, Th&eacute\;orie et culture existentialistes et ph&eacute\;nom&eacute\;nologiques (TCEP) est une soci&eacute\;t&eacute\; acad&eacute\;mique canadienne d&rsquo\;envergure internationale dont la mission est de promouvoir la recherche inspir&eacute\;e\, au sens large\, des traditions existentialiste ou ph&eacute\;nom&eacute\;nologique. En plus de s&rsquo\;int&eacute\;resser aux travaux th&eacute\;oriques portant sur des sujets et personnalit&eacute\;s du monde philosophique\, la TCEP offre une vitrine aux travaux de recherche pratique ou appliqu&eacute\;e ainsi qu&rsquo\;&agrave\; la recherche multi- ou interdisciplinaire portant sur des th&eacute\;matiques existentialiste ou ph&eacute\;nom&eacute\;nologique.</p>\n<p>La premi&egrave\;re journ&eacute\;e de notre conf&eacute\;rence sera r&eacute\;serv&eacute\;e aux contributions explorant les fondements et les pr&eacute\;histoires de la ph&eacute\;nom&eacute\;nologie et/ou de l&rsquo\;existentialisme. Veuillez indiquer dans votre soumission si vous souhaitez que votre article soit consid&eacute\;r&eacute\; comme une contribution &agrave\; cette discussion. Le reste de la conf&eacute\;rence est ouvert aux soumissions sur toute recherche portant sur des th&egrave\;mes existentiels et ph&eacute\;nom&eacute\;nologiques\, th&eacute\;oriques\, pratiques ou transdisciplinaires.</p>
ORGANIZER:
METHOD:PUBLISH
END:VEVENT
END:VCALENDAR
