BEGIN:VCALENDAR
PRODID:-//Grails iCalendar plugin//NONSGML Grails iCalendar plugin//EN
VERSION:2.0
CALSCALE:GREGORIAN
METHOD:PUBLISH
BEGIN:VEVENT
DTSTAMP:20260420T060931Z
DTSTART;TZID=America/Vancouver:20260612T234500
DTEND;TZID=America/Vancouver:20260612T234500
SUMMARY:Society for Existential and Phenomenological Theory & Culture (EPTC/TCEP) Annual Conference
UID:20260424T030534Z-iCalPlugin-Grails@philevents-web-f5d4878dd-nv7xt
TZID:America/Vancouver
LOCATION:Victoria\, Canada
DESCRIPTION:Call for Papers 2026\n<p>The Annual meeting of the EPTC will be held June 1-4\, 2026\, at the University of Victoria in Victoria\, British Columbia.</p>\n<p>Founded in 2003\, the Society for Existential and Phenomenological Theory and Culture (EPTC) is a Canadian-based international academic society that aims to promote rigorous scholarship drawn from the traditions of existentialism and phenomenology\, broadly construed. In addition to theoretical work on core philosophical issues and figures\, we are especially interested in providing a forum for showcasing practical and applied research\, as well as cross- and interdisciplinary developments of existential and phenomenological themes.</p>\n<p>Day One of our conference will be reserved for papers exploring the foundations and pre-histories of phenomenology and/or existentialism. Please indicate in your submission if you wish your paper to be considered as contribution to this discussion. The remainder of the conference is open to submissions on any scholarship of&nbsp\;existential and phenomenological themes\,&nbsp\;theoretical\, practical\, or cross- and interdisciplinary.</p>\n<p>Interested authors should submit the following electronically in .doc\, .docx\, or .rtf format:</p>\n<ol>\n<li>A copy of your paper\, not more than 3500 words\, and prepared for anonymous review (identifiable by paper title only)\,&nbsp\;<em>and</em></li>\n<li>A separate abstract\, not more than 100 words\, listing the paper&rsquo\;s title\, author&rsquo\;s name\, complete mailing address\, institutional affiliation\, and e-mail address.</li>\n</ol>\n<p><em>While we strongly prefer complete papers\, we will also consider long abstracts (750&ndash\;1000 words\, plus bibliography). Please prepare this for anonymous review\, and submit along with a separate cover sheet listing the title\, author&rsquo\;s name\, address\, etc. Please also include a short CV.</em></p>\n<p><strong>The submission deadline for the above materials is January 12\, 2026. Submissions and questions should be sent to:&nbsp\;</strong><strong><u><a href="mailto:eptc.tcep@gmail.com">eptc.tcep@gmail.com</a></u></strong><strong>.</strong></p>\n<p>Accepted authors will have twenty-five minutes to present their papers and should consider allocating a portion of that time to respond to commentators. Presentations will be followed by a ten-minute commentary and a twenty-minute discussion period. Accepted authors may be asked to provide a commentary on another paper\, or to chair a session. (If you are just interested in presenting a commentary or chairing a session\, please submit a brief note to this effect\, including your name\, e-mail address\, institutional affiliation\, and relevant areas of interest.)</p>\n<p>All submissions are subject to a double-blind review process\, and accepted authors will be asked to send final versions of their papers to a commentator by April 15.</p>\n<p>EPTC is able to waive registration fees for a few participants each year. Such awards will be made according to criteria of financial need and paper quality at the discretion of the organizing committee. Non-tenure-stream participants interested in this award should include a note to this effect in their submission materials.</p>\n\nAppel &agrave\; contributions 2026\n<p>La r&eacute\;union annuelle de la TCEP aura lieu du 1er au 4 juin 2026 &agrave\; l&rsquo\;Universit&eacute\; de Victoria\, en Colombie-Britannique</p>\n<p>Fond&eacute\;e en 2003\, Th&eacute\;orie et culture existentialistes et ph&eacute\;nom&eacute\;nologiques (TCEP) est une soci&eacute\;t&eacute\; acad&eacute\;mique canadienne d&rsquo\;envergure internationale dont la mission est de promouvoir la recherche inspir&eacute\;e\, au sens large\, des traditions existentialiste ou ph&eacute\;nom&eacute\;nologique. En plus de s&rsquo\;int&eacute\;resser aux travaux th&eacute\;oriques portant sur des sujets et personnalit&eacute\;s du monde philosophique\, la TCEP offre une vitrine aux travaux de recherche pratique ou appliqu&eacute\;e ainsi qu&rsquo\;&agrave\; la recherche multi- ou interdisciplinaire portant sur des th&eacute\;matiques existentialiste ou ph&eacute\;nom&eacute\;nologique.</p>\n<p>La premi&egrave\;re journ&eacute\;e de notre conf&eacute\;rence sera r&eacute\;serv&eacute\;e aux contributions explorant les fondements et les pr&eacute\;histoires de la ph&eacute\;nom&eacute\;nologie et/ou de l&rsquo\;existentialisme. Veuillez indiquer dans votre soumission si vous souhaitez que votre article soit consid&eacute\;r&eacute\; comme une contribution &agrave\; cette discussion. Le reste de la conf&eacute\;rence est ouvert aux soumissions sur toute recherche portant sur des th&egrave\;mes existentiels et ph&eacute\;nom&eacute\;nologiques\, th&eacute\;oriques\, pratiques ou transdisciplinaires.</p>\n<p>Les auteurs int&eacute\;ress&eacute\;s devront soumettre les documents suivants par voie &eacute\;lectronique en format .doc\, .docx ou .rtf :</p>\n<ol>\n<li>un exemplaire de votre article (d&rsquo\;au plus 3500 mots) soumis de mani&egrave\;re anonyme\, soit uniquement avec son titre\,&nbsp\;<em>et</em></li>\n<li>un r&eacute\;sum&eacute\; sur un document distinct (d&rsquo\;au plus 100 mots) sur lequel se trouvent le titre de l&rsquo\;article\, le nom de l&rsquo\;auteur\, l&rsquo\;adresse postale et &eacute\;lectronique et l&rsquo\;affiliation institutionnelle.</li>\n</ol>\n<p><em>Bien que nous pr&eacute\;f&eacute\;rions vivement recevoir des articles complets\, nous consid&eacute\;rerons aussi des r&eacute\;sum&eacute\;s approfondis (750-1000 mots\, ainsi qu&rsquo\;une bibliographie). Ceci doit &ecirc\;tre soumis de mani&egrave\;re anonyme\, accompagn&eacute\; d&rsquo\;un document distinct sur lequel se trouvent le titre\, le nom de l&rsquo\;auteur\, les adresses\, etc. Veuillez &eacute\;galement fournir un bref CV.</em></p>\n<p><strong>La date limite pour soumettre les documents susmentionn&eacute\;s est le 12 janvier 2026. Les dossiers doivent &ecirc\;tre envoy&eacute\;s &agrave\; :&nbsp\;</strong><strong><a href="mailto:eptc.tcep@gmail.com">eptc.tcep@gmail.com</a></strong><strong>.</strong></p>\n<p>Les auteurs retenus auront vingt-cinq minutes pour pr&eacute\;senter leur article et devraient r&eacute\;partir une partie du temps pour r&eacute\;pondre aux commentateurs. Les pr&eacute\;sentations seront suivis d&rsquo\;une dizaine de minutes de commentaires ainsi qu&rsquo\;une discussion d&rsquo\;une vingtaine de minutes. Les auteurs retenus peuvent &ecirc\;tre aussi invit&eacute\;s &agrave\; commenter sur un article ou pr&eacute\;sider une s&eacute\;ance. (Si vous souhaitez seulement commenter sur un article ou pr&eacute\;sider une s&eacute\;ance\, veuillez nous contacter par courriel en nous indiquant votre nom\, votre adresse postale et &eacute\;lectronique\, votre affiliation institutionnelle ainsi que tous vos centres d&rsquo\;int&eacute\;r&ecirc\;t pertinents.)</p>\n<p>Tous les dossiers seront soumis &agrave\; une &eacute\;valuation &agrave\; double insu\, and les auteurs retenus seront tenus d&rsquo\;envoyer versions d&eacute\;finitives de leurs articles aux commentateurs/trices au plus tard le 15 avril.</p>\n<p>Chaque ann&eacute\;e\, la TCEP est en mesure d&rsquo\;annuler les frais d&rsquo\;inscription de quelques d&eacute\;l&eacute\;gu&eacute\;s. Cette d&eacute\;cision du coordonnateur des activit&eacute\;s du Congr&egrave\;s s&rsquo\;appuie sur la situation financi&egrave\;re et la qualit&eacute\; de la pr&eacute\;sentation du participant. Les d&eacute\;l&eacute\;gu&eacute\;s non permanents souhaitant recevoir cette aide sont appel&eacute\;s &agrave\; en faire la demande lors de la soumission de leur dossier.</p>
ORGANIZER:
METHOD:PUBLISH
END:VEVENT
END:VCALENDAR
