BEGIN:VCALENDAR
PRODID:-//Grails iCalendar plugin//NONSGML Grails iCalendar plugin//EN
VERSION:2.0
CALSCALE:GREGORIAN
METHOD:PUBLISH
BEGIN:VEVENT
DTSTAMP:20260421T121435Z
DTSTART;TZID=Europe/Stockholm:20260422T090000
DTEND;TZID=Europe/Stockholm:20260423T170000
SUMMARY:Comics & Machines
UID:20260423T084049Z-iCalPlugin-Grails@philevents-web-6b96c54f56-bljdq
TZID:Europe/Stockholm
LOCATION:Brinellvägen 8\, 114 28\, Stockholm\, Sweden
DESCRIPTION:<p><em>Comics and Machines</em>&nbsp\;explores the profound transformations reshaping the field of comics through automation\, computation\, and new media systems. The conference examines how emerging technologies&mdash\;from machine learning and synthetic image generation to data-driven visualization&mdash\;are redefining the medium&rsquo\;s ontology\, practice\, and potential. By situating these developments within broader histories of engineering\, automation\, and artistic research\, the event aims to rethink comics not as passive narrative forms but as active computational configurations that generate new modes of knowledge\, aesthetics\, and cultural production.</p>
ORGANIZER:
METHOD:PUBLISH
END:VEVENT
END:VCALENDAR
