BEGIN:VCALENDAR
PRODID:-//Grails iCalendar plugin//NONSGML Grails iCalendar plugin//EN
VERSION:2.0
CALSCALE:GREGORIAN
METHOD:PUBLISH
BEGIN:VEVENT
DTSTAMP:20260422T004601Z
DTSTART;TZID=Europe/London:20260701T090000
DTEND;TZID=Europe/London:20260701T090000
SUMMARY:Open call for papers for the philosophy journal Thaumàzein
UID:20260424T222302Z-iCalPlugin-Grails@philevents-web-6b96c54f56-bljdq
TZID:Europe/London
DESCRIPTION:<p><strong>CFP&nbsp\;Open call for papers for the&nbsp\;philosophy&nbsp\;journal Thaum&agrave\;zein.&nbsp\;</strong></p>\n<p>Volume 15 of the journal Thaum&agrave\;zein\, Issue 1\, 2027 will not be monographic as usual\, but will accept open proposals on topics that characterize the journal and in particular concerning theoretical philosophy\, moral philosophy\, and the history of philosophy. However\, we recommend consulting previous issues already published:</p>\n<p><a href="https://rivista.thaumazein.it/index.php/thaum/index">https://rivista.thaumazein.it/index.php/thaum/index</a></p>\n<p>Deadline for submission of title and short abstract (maximum 4\,000 characters in English or Italian):&nbsp\;&nbsp\;<strong>July 1\, 2026 to</strong>:</p>\n<p>Gualtiero Lorini (<strong>gualtiero.lorini@univr.it</strong>)</p>\n<p>Deadline for submission of the full text (maximum 35\,000 characters\, including spaces\, in English or Italian): <strong>November 1\, 2026 via the OJS</strong> platform:&nbsp\;<a  href="https://rivista.thaumazein.it/index.php/thaum/about/submissions"  target="_blank">https://rivista.thaumazein.it/index.php/thaum/about/submissions</a>.</p>\n<p>The editorial guidelines for authors can be found here:</p>\n<p><a  href="https://www.thaumazein.it/la-rivista/about-the-journal/formatting-guidelines/"  target="_blank">https://www.thaumazein.it/la-rivista/about-the-journal/formatting-guidelines/</a></p>\n<p>The volume is scheduled for publication in June 2027.</p>
ORGANIZER:
METHOD:PUBLISH
END:VEVENT
END:VCALENDAR
