BEGIN:VCALENDAR
PRODID:-//Grails iCalendar plugin//NONSGML Grails iCalendar plugin//EN
VERSION:2.0
CALSCALE:GREGORIAN
METHOD:PUBLISH
BEGIN:VEVENT
DTSTAMP:20260419T131244Z
DTSTART;TZID=America/New_York:20140425T120000
DTEND;TZID=America/New_York:20140425T130000
SUMMARY:The Beginning of the Philosophic Life and the Challenge of Faith in Revelation:  Reflections on Rousseau’s Rêveries
UID:20260420T111831Z-iCalPlugin-Grails@philevents-web-f5d4878dd-nv7xt
TZID:America/New_York
LOCATION:Chestnut Hill\, United States
DESCRIPTION:<p><strong>Prof. Dr. Heinrich Meier</strong></p>\n\n<p>Director of the Carl Friedrich von Siemens Foundation\, Munich</p>\n\n<p>Professor of Philosophy\, Ludwig-Maximilians-University of Munich</p>\n\n<p>Distinguished Visiting Professor\, the Committee on Social Thought\, University of Chicago</p>\n\n\n\n<p>Friday\, April 25\, 2014\, 4:00 p.m.\, Higgins Hall\, Room 300</p>\n\n\n\n<p>Discussant: Prof. Charles Griswold\, Boston University</p>\n\n\n\n<p>Dinner &amp\; Discussion to follow in the McElroy Faculty Dining Rm.</p>\n\n\n\n<p>RSVP to <a target="_blank">karina.ovalles@bc.edu</a> by 4/18\, if you plan to attend the dinner.</p>\n\n\n\n<p><strong>Heinrich Meier</strong> is the present director of the Carl Friedrich von Siemens Foundation in Munich.&nbsp\; He is a Professor of Philosophy at the Ludwig- Maximilians- University of Munich and is the Distinguished Visiting Professor in the Committee on Social Thought at the University of Chicago.&nbsp\; He was awarded the inaugural Peregrinus Prize of the Bavarian Academy of Sciences\, in 1997.&nbsp\; He taught in the Political Science department at Boston College as a visiting professor\, in the fall of 2003.&nbsp\; Heinrich Meier&rsquo\;s publications include his latest book\, <em>Politische Philosophie und die Herausforderung der Offenbarungs-religion </em>(2013) and <em>&Uuml\;ber das Gl&uuml\;ck des philosophischen Lebens. Reflexionen zu Rousseaus R&ecirc\;veries</em><em>in zwei B&uuml\;chern[On the Happiness of the Philosophic Life. Reflections on Rousseau&rsquo\;s R&ecirc\;veries</em> in two books] (2011). &nbsp\;A full CV for Henrich Meier is available at <a target="_blank">https://socialthought.uchicago.edu/sites/socialthought.uchicago.edu/files/uploads/HeinrichMeier.pdf</a>.</p>\n\n<p><strong>&nbsp\;</strong></p>\n<p><strong>Charles Griswold</strong> is the Borden Parker Bowne Professor of Philosophy at Boston University. He earned his Ph.D. from the Pennsylvania State University in 1978. Professor Griswold's research interests include Ancient Philosophy\, Moral and Political Philosophy\, 18th century philosophy\, philosophy and literature\, and metaphilosophy. He is the co-editor\, with David Konstan\, of <em>Ancient Forgiveness: Classical\, Judaic\, and Christian\; Forgiveness: A Philosophical Exploration\, Adam Smith and the Virtues of Enlightenment\; </em>and <em>Self-Knowledge in Plato's Phaedrus</em>. For more information on Professor Griswold\, please visit his Boston University webpage at <a target="_blank">http://blogs.bu.edu/griswold/</a></p>
ORGANIZER:
METHOD:PUBLISH
END:VEVENT
END:VCALENDAR
