BEGIN:VCALENDAR
PRODID:-//Grails iCalendar plugin//NONSGML Grails iCalendar plugin//EN
VERSION:2.0
CALSCALE:GREGORIAN
METHOD:PUBLISH
BEGIN:VEVENT
DTSTAMP:20260422T192809Z
DTSTART;TZID=America/Moncton:20260130T110000
DTEND;TZID=America/Moncton:20260130T110000
SUMMARY:“Wisdom from the Middle Ages: Philosophical Contributions from the Abrahamic Traditions”
UID:20260427T082945Z-iCalPlugin-Grails@philevents-web-6b96c54f56-bljdq
TZID:America/Moncton
LOCATION:University of New Brunswick\, Fredericton\, Canada\, E3B 5A3
DESCRIPTION:<p>The University of New Brunswick&rsquo\;s Department of Philosophy invites scholars to submit abstracts for an international conference on "Wisdom from the Middle Ages: Philosophical Contributions from the Abrahamic Traditions." This conference will highlight the important philosophical contributions made by Jewish\, Christian\, and Islamic thinkers in the Middle Ages. A secondary goal of the conference is to encourage dialogue and collaboration among researchers who work in different Abrahamic traditions\, as well as to prompt new comparative studies among those traditions.</p>\n<p>The conference welcomes proposals from academics working in medieval philosophy broadly conceived\, which includes the related fields of ethics\, history\, political science\, religious studies\, and theology.</p>\n<p>The conference also welcomes proposals from graduate students and is reserving several spaces on the program for their presentations.</p>\n<p>Selected papers may be invited to be published in an edited volume following the conference.</p>
ORGANIZER;CN=Jennifer Hart Weed;CN=Alexander Green:
METHOD:PUBLISH
END:VEVENT
END:VCALENDAR
