BEGIN:VCALENDAR
PRODID:-//Grails iCalendar plugin//NONSGML Grails iCalendar plugin//EN
VERSION:2.0
CALSCALE:GREGORIAN
METHOD:PUBLISH
BEGIN:VEVENT
DTSTAMP:20260421T213324Z
DTSTART;TZID=Asia/Shanghai:20260604T090000
DTEND;TZID=Asia/Shanghai:20260605T170000
SUMMARY:5th Workshop on Philosophy of Emotions
UID:20260424T135102Z-iCalPlugin-Grails@philevents-web-6b96c54f56-bljdq
TZID:Asia/Shanghai
LOCATION:Hangzhou\, China
DESCRIPTION:<p>The School of Philosophy at Zhejiang University is happy to host the&nbsp\;<strong>5th Workshop on Philosophy of Emotions</strong>\, dedicated to the theme of <strong>grief</strong>\, to be held on June 5th\, 2026.</p>\n<p><strong>Pre-workshop</strong> <strong>Symposium</strong>: On June 4th\, there will be a symposium on Michael Cholbi&rsquo\;s book <em>Grief: A Philosophical Guide</em> (2022).</p>\n<p>Detailed program will be posted in April 2026.</p>\n
ORGANIZER;CN=Dong An:
METHOD:PUBLISH
END:VEVENT
END:VCALENDAR
