BEGIN:VCALENDAR
PRODID:-//Grails iCalendar plugin//NONSGML Grails iCalendar plugin//EN
VERSION:2.0
CALSCALE:GREGORIAN
METHOD:PUBLISH
BEGIN:VEVENT
DTSTAMP:20260421T232215Z
DTSTART;TZID=Asia/Shanghai:20260228T010000
DTEND;TZID=Asia/Shanghai:20260228T010000
SUMMARY:5th Workshop on Philosophy of Emotions
UID:20260424T184124Z-iCalPlugin-Grails@philevents-web-6b96c54f56-bljdq
TZID:Asia/Shanghai
LOCATION:Hangzhou\, China
DESCRIPTION:<p>The School of Philosophy at Zhejiang University is happy to invite submissions for our <strong>5th Workshop on Philosophy of Emotions</strong>\, dedicated to the theme of <strong>grief</strong>\, to be held on <strong>June 5th\, 2026.</strong></p>\n<p>We welcome submissions that explore grief and related topics\, including but not limited to:</p>\n<p>&middot\;&nbsp\;&nbsp\;&nbsp\;&nbsp\;&nbsp\; the nature and normative aspects of grief\, such as its rationality or morality</p>\n<p>&middot\;&nbsp\;&nbsp\;&nbsp\;&nbsp\;&nbsp\; death\, value\, and meanings in life</p>\n<p>&middot\;&nbsp\;&nbsp\;&nbsp\;&nbsp\;&nbsp\; grief\, self-identity\, and immortality</p>\n<p>&middot\;&nbsp\;&nbsp\;&nbsp\;&nbsp\;&nbsp\; individual and collective grief</p>\n<p>&middot\;&nbsp\;&nbsp\;&nbsp\;&nbsp\;&nbsp\; grief in the age of technology</p>\n<p>&middot\;&nbsp\;&nbsp\;&nbsp\;&nbsp\;&nbsp\; grief in non-human animals</p>\n<p>&middot\;&nbsp\;&nbsp\;&nbsp\;&nbsp\;&nbsp\; grief and its relation to other emotions\, such as love\, guilt\, or regret</p>\n<p>We encourage contributions from a wide range of philosophical traditions\, including philosophy of emotions\, normative ethics\, moral psychology\, phenomenology\, feminist perspective\, and various non-Western perspectives. &nbsp\;</p>\n<p><strong>Confirmed key-note speaker</strong></p>\n<p>Michael Cholbi\, Professor of Philosophy\, University of Edinburgh\, UK</p>\n<p><strong>Submission guidelines</strong></p>\n<p>&middot\;&nbsp\;&nbsp\;&nbsp\;&nbsp\;&nbsp\; <strong>Abstracts</strong>: 750-1\,000 words\, prepared for anonymous review\, suitable for a 30-minute presentation (followed by 20 minutes of discussion).</p>\n<p>&middot\;&nbsp\;&nbsp\;&nbsp\;&nbsp\;&nbsp\; <strong>Pre-workshop</strong> <strong>Symposium</strong>: On <strong>June 4th</strong>\, there will be a symposium on Michael Cholbi&rsquo\;s book <em>Grief: A Philosophical Guide</em> (2022). Interested commentators should submit a 300-word proposal for a 10-15 minutes presentation.</p>\n<p>Please send submissions (abstracts and/or symposium proposals) to <strong>emotionworkshop2026@gmail.com</strong>&nbsp\;by <strong>Feb 28\, 2026</strong>. For any questions\, please contact Dong An (zzzantonia@gmail.com).&nbsp\;</p>\n<p>Accommodation\, including hotel and meals\, will be provided for all participants in the program.</p>\n<p><strong>Important dates:</strong></p>\n<p>Submission deadline: <strong>Feb 28\, 2026&nbsp\;</strong></p>\n<p>Notification of acceptance: <strong>Mar 31\, 2026&nbsp\;</strong></p>\n<p>Events:<strong> June 4-5\, 2026&nbsp\;</strong></p>
ORGANIZER;CN=Dong An:
METHOD:PUBLISH
END:VEVENT
END:VCALENDAR
