BEGIN:VCALENDAR
PRODID:-//Grails iCalendar plugin//NONSGML Grails iCalendar plugin//EN
VERSION:2.0
CALSCALE:GREGORIAN
METHOD:PUBLISH
BEGIN:VEVENT
DTSTAMP:20260420T080513Z
DTSTART;TZID=America/Chicago:20260331T234500
DTEND;TZID=America/Chicago:20260331T234500
SUMMARY:Philosophy of Breakups
UID:20260424T101532Z-iCalPlugin-Grails@philevents-web-f5d4878dd-nv7xt
TZID:America/Chicago
LOCATION:USC School of Philosophy\, Los Angeles\, United States\, 90089-3617
DESCRIPTION:<p>This is a call for abstracts to present at The Philosophy of Breakups\, organized by the Conceptual Foundations of Conflict Project at the University of Southern California.&nbsp\; Please submit a PDF file with all identifying information removed to maschroe@usc.edu with an abstract of not more than three 1-1/2-spaced pages.&nbsp\; Authors of accepted papers will be notified by May 31.&nbsp\; A small travel subsidy will be available for presenters.&nbsp\; This is a hybrid event but we ask all presenters to plan to come in person.</p>\n<p>https://philevents.org/event/show/142070</p>
ORGANIZER;CN=Mark Schroeder:
METHOD:PUBLISH
END:VEVENT
END:VCALENDAR
