BEGIN:VCALENDAR
PRODID:-//Grails iCalendar plugin//NONSGML Grails iCalendar plugin//EN
VERSION:2.0
CALSCALE:GREGORIAN
METHOD:PUBLISH
BEGIN:VEVENT
DTSTAMP:20260420T051523Z
DTSTART;TZID=Europe/Stockholm:20260512T090000
DTEND;TZID=Europe/Stockholm:20260513T170000
SUMMARY:Hyperintensionality and (Meta)-Metaphysics
UID:20260423T232618Z-iCalPlugin-Grails@philevents-web-f5d4878dd-nv7xt
TZID:Europe/Stockholm
LOCATION:Thunbergsvägen 3H\, Uppsala\, Sweden\, 751 20
DESCRIPTION:<p><strong>Workshop:</strong> Hyperintensionality and (Meta)-Metaphysics</p>\n<p>Date: 12-13 May<br>Location: Uppsala University<br>Organizers: &Aring\;ke Gafvelin (Uppsala University)\, Andrea Crepoli (Uppsala University)\, Matti Eklund (Uppsala University).</p>\n<p><strong>Description:</strong></p>\n<p>Recent debates in metaphysics have concerned notions such as grounding\, essence and structure. These notions appear to be hyperintensional\, in that they make distinctions finer than those captured by standard possible worlds semantics.&nbsp\;</p>\n<p>This workshop brings together philosophers working at the intersection of hyperintensional semantics\, metaphysics and meta-metaphysics. The worskhop will explore the implications of hyperintensionality for metaphysical theorizing and critically examine the metaphysical underpinnings of hyperintensional distinctions.</p>\n<p><strong>Speakers:</strong></p>\n<p><strong></strong><br> Franz Berto (University of St. Andrews): "When Sentences Say The Same"<br> Dustin Goo&szlig\;ens (Ruhr-Universit&auml\;t Bochum): "Non-Representational Hyperintensional Metaphysics"<br> Christopher J. G. Meacham (University of Massachusetts\, Amherst): "Complete Grounding"<br> Michael J. Raven (University of Victoria): "Essence and Modalities"<br> Alessandro Torza (University of Parma): "Does Williamson's Suppositional Heuristic have a Problem with Counterpossibles?"<br> Evie Willems (Indepedent researcher): "The intensional landscape: Salvaging Eli Hirsch&rsquo\;s intensional deflationism from metaphysical commitments"</p>\n<p><strong>Practical information </strong></p>\n<p><strong></strong> The workshop will take place at the Department of Philosophy\, Uppsala University. Attendance is free\, but registration is required.&nbsp\;</p>
ORGANIZER;CN="Åke Gafvelin";CN=Matti Eklund;CN=Andrea Crepoli:
METHOD:PUBLISH
END:VEVENT
END:VCALENDAR
