BEGIN:VCALENDAR
PRODID:-//Grails iCalendar plugin//NONSGML Grails iCalendar plugin//EN
VERSION:2.0
CALSCALE:GREGORIAN
METHOD:PUBLISH
BEGIN:VEVENT
DTSTAMP:20260420T182446Z
DTSTART;TZID=America/Phoenix:20260424T090000
DTEND;TZID=America/Phoenix:20260425T170000
SUMMARY:Southwest Graduate Philosophy Conference
UID:20260421T101141Z-iCalPlugin-Grails@philevents-web-f5d4878dd-nv7xt
TZID:America/Phoenix
LOCATION:976 S Forest Mall\, Tempe\, United States\, 85281
DESCRIPTION:<p>Theme: Civility and Incivility</p>\n<p>Keynote Speaker: Dr. Sukaina Hirji (University of Pennsylvania).&nbsp\;</p>\n<p>The annual Southwest Graduate Philosophy Conference will resume in Spring 2026 at Arizona State University in Tempe\, Arizona. This year\, our theme will be Civility and Incivility. We welcome graduate student submissions from any area of philosophy\, but priority will be given to papers relevant to the theme and/or relevant to social philosophy broadly constructed. This year our conference is co-hosted by ASU&rsquo\;s MAP chapter\, so we particularly encourage graduate students to submit papers on topics that are relevant to marginalized communities.</p>\n\n<p>We are thrilled to welcome Dr. Sukiana Hirji from the University of Pennsylvania as our keynote speaker. The keynote presentation will be the final talk of the conference on Saturday\, April 25th.</p>
ORGANIZER;CN=Scout Etterson;CN=Dustin Taylor;CN=Miranda Judson;CN=Christopher Chimienti:
METHOD:PUBLISH
END:VEVENT
END:VCALENDAR
