BEGIN:VCALENDAR
PRODID:-//Grails iCalendar plugin//NONSGML Grails iCalendar plugin//EN
VERSION:2.0
CALSCALE:GREGORIAN
METHOD:PUBLISH
BEGIN:VEVENT
DTSTAMP:20260420T195313Z
DTSTART;TZID=America/Phoenix:20260109T160000
DTEND;TZID=America/Phoenix:20260109T160000
SUMMARY:Southwest Graduate Philosophy Conference
UID:20260420T232149Z-iCalPlugin-Grails@philevents-web-6b96c54f56-bljdq
TZID:America/Phoenix
LOCATION:976 S Forest Mall\, Tempe\, United States\, 85281
DESCRIPTION:<p><strong>Theme:</strong> Civility and Incivility</p>\n<p><strong>Keynote Speaker:</strong> Dr. Sukaina Hirji (University of Pennsylvania).&nbsp\;</p>\n<p>The annual Southwest Graduate Philosophy Conference will resume in Spring 2026 at Arizona State University in Tempe\, Arizona. This year\, our theme will be Civility and Incivility. We welcome graduate student submissions from any area of philosophy\, but priority will be given to papers relevant to the theme and/or relevant to social philosophy broadly constructed. This year our conference is co-hosted by ASU&rsquo\;s MAP chapter\, so we particularly encourage graduate students to submit papers on topics that are relevant to marginalized communities.</p>\n<p>We are thrilled to welcome Dr. Sukiana Hirji from the University of Pennsylvania as our keynote speaker. The keynote presentation will be the final talk of the conference on Saturday\, April 25th.</p>\n<p><strong>Further details:</strong></p>\n<p>The Conference will take place in person on <strong>Friday &amp\; Saturday\, April 24th &amp\; 25th 2026</strong> in Coor Hall at Arizona State University.</p>\n<p>Each presenter will be given 30 minutes for their presentation and 15-20 minutes for comments and Q&amp\;A\, so please keep in mind a word limit of 3000-3500 words.&nbsp\;</p>\n<p>Submissions should be prepared for anonymous review. You will be asked for the following materials:&nbsp\;</p>\n<ul>\n<li>Name</li>\n<li>Institution</li>\n<li>Title of paper&nbsp\;</li>\n<li>Abstract (250 words or fewer)&nbsp\;</li>\n<li>Contact information.&nbsp\;</li>\n<li>An indication of your willingness to be a commenter/respondent on another student&rsquo\;s paper (commentary should be around 2-3 minutes).</li>\n<li>An anonymized paper of 3\,000-3\,500 words.</li>\n</ul>\n<p><strong>To submit the application materials\, please fill out this google form:&nbsp\;</strong>https://forms.gle/UaF8KLBJcvjyWtqE7&nbsp\;</p>\n<p>If you have any questions\, please reach out to Scout Etterson at setterson@asu.edu.&nbsp\;</p>\n<p>Submission deadline: <strong>January 9th\, 2026.&nbsp\;</strong></p>\n<p>Notifications of acceptance will be sent out by <strong>February 2nd\, 2026.&nbsp\;</strong></p>
ORGANIZER;CN=Scout Etterson;CN=Dustin Taylor;CN=Miranda Judson;CN=Christopher Chimienti:
METHOD:PUBLISH
END:VEVENT
END:VCALENDAR
