BEGIN:VCALENDAR
PRODID:-//Grails iCalendar plugin//NONSGML Grails iCalendar plugin//EN
VERSION:2.0
CALSCALE:GREGORIAN
METHOD:PUBLISH
BEGIN:VEVENT
DTSTAMP:20260420T051405Z
DTSTART;TZID=America/Chicago:20260424T090000
DTEND;TZID=America/Chicago:20260425T170000
SUMMARY:Conference in Honor of George Sher
UID:20260423T232301Z-iCalPlugin-Grails@philevents-web-f5d4878dd-nv7xt
TZID:America/Chicago
LOCATION:Houston\, United States
DESCRIPTION:<p>The Rice Philosophy Department is hosting a conference to honor George Sher and celebrate his work this spring (April 24-25\, 2026). The event will feature papers from some of George&rsquo\;s friends\, interlocutors\, and colleagues. Talks will take up major themes of his work\, including responsibility\, blame\, desert\, freedom of thought and speech\, neutrality\, and distributive justice.&nbsp\;</p>\n<p>The conference is free and open to the public upon registration\, space permitting.</p>\n<p>For more information\, or to register\, contact Samuel Reis-Dennis (sr110@rice.edu).&nbsp\;</p>
ORGANIZER;CN=Samuel Reis-Dennis:
METHOD:PUBLISH
END:VEVENT
END:VCALENDAR
