BEGIN:VCALENDAR
PRODID:-//Grails iCalendar plugin//NONSGML Grails iCalendar plugin//EN
VERSION:2.0
CALSCALE:GREGORIAN
METHOD:PUBLISH
BEGIN:VEVENT
DTSTAMP:20260421T170519Z
DTSTART;TZID=Europe/London:20260305T094500
DTEND;TZID=Europe/London:20260306T170000
SUMMARY:Workshop on Friendship\, and Friendship with the Morally Bad
UID:20260423T220045Z-iCalPlugin-Grails@philevents-web-6b96c54f56-bljdq
TZID:Europe/London
DESCRIPTION:<p><strong>Call for Registration</strong></p>\n<p><strong>Workshop on Friendship\, and Friendship with the Morally Bad</strong></p>\n<p><strong>5th&ndash\;6th March 2025 | Online (Microsoft Teams)</strong></p>\n<p>The Salzburg Ethics Group would like to invite registrations for a two-day online workshop exploring philosophical questions about friendship\, and friendship with the morally bad. The workshop will\, in part\, examine whether and how friendship is possible with those who have significant moral failings\, and what such relationships reveal about the nature and ethics of friendship more broadly.</p>\n<p><strong>Confirmed Speakers Include</strong></p>\n<p>Sophie-Grace Chappell | Bennett Helm | Pilar Lopez-Cantero | Max Lewis | Andrew Ma | Paloma Morales | Joe Slater | Aarthy Vaidyanathan | Aloysius Ventham | Jake Wagner | Dashan Xu | Yiran Hua</p>\n<p><strong>Registration</strong></p>\n<p>The workshop is free to attend\, but registration is required. To register\, please contact aloysiusaquinas.ventham@plus.ac.at</p>\n<p><strong>Schedule (all times are Central European Time):</strong></p>\n<p>Thursday 5th of March\, 2026</p>\n<p>10:00 - 11:00</p>\n<p><em>Mutuality without Measurement</em></p>\n<p>Aloysius Ventham</p>\n<p>11:00 - 11:45</p>\n<p><em>Non-Domination and Eschewing Friendships with the Morally Bad</em></p>\n<p>Aarthy Vaidyanathan</p>\n<p>11:45 - 12:00&nbsp\;</p>\n<p>Break</p>\n<p>12:00 - 12:45</p>\n<p><em>The Strains of Involvement: Objectification and Ending Friendships</em></p>\n<p>Andrew Ma</p>\n<p>12:45 - 13:45&nbsp\;</p>\n<p>Lunch</p>\n<p>13:45 - 15:15</p>\n<p><em>What Aristotle and C.S.Lewis get wrong about friendship (pretty much everything)</em></p>\n<p>Sophie-Grace Chappell</p>\n<p>15:15 - 15:30&nbsp\;</p>\n<p>Break</p>\n<p>15:45 - 16:30</p>\n<p><em>"Bad People" and Moral Snobs: On the Badness of Refusing to Befriend People with</em></p>\n<p><em>Serious Moral Vices</em></p>\n<p>Paloma Morales</p>\n<p>16:30 - 18:00</p>\n<p><em>Final Speaker</em></p>\n<p>Yiran Hua</p>\n<p>Conference Program</p>\n<p>Friday 6th of March</p>\n<p>10:00 - 11:00 &nbsp\;&nbsp\;</p>\n<p><em>Should we blame our friends for their immoral beliefs?</em></p>\n<p>Jake Wagner</p>\n<p>11:00 - 11:45</p>\n<p><em>Virtue Friendship with Bad People in Aristotle</em></p>\n<p>Dashan Xu</p>\n<p>11:45 - 12:00 &nbsp\;&nbsp\;</p>\n<p>Break</p>\n<p>12:00 - 12:45 &nbsp\;&nbsp\;</p>\n<p><em>"You Should Like Your Friends"\, "You Shouldn't Like Nazis" and Other Shocking</em></p>\n<p><em>Revelations</em></p>\n<p><em></em>Joe Slater</p>\n<p>12:45 - 13:45 &nbsp\;&nbsp\;</p>\n<p>Lunch</p>\n<p>13:45 - 15:15&nbsp\;&nbsp\;&nbsp\;</p>\n<p><em>Friendship Break-ups</em></p>\n<p>Pilar Lopez Cantero</p>\n<p>15:15 - 15:30 &nbsp\;&nbsp\;</p>\n<p>Break</p>\n<p>15:45 - 16:30 &nbsp\;&nbsp\;</p>\n<p><em>Friendship\, Bad People\, and the Limits of Reactivity</em></p>\n<p>Max Lewis</p>\n<p>16:30 - 18:00 &nbsp\;&nbsp\;</p>\n<p><em>Final Speaker and Close</em></p>\n<p>Bennett Helm</p>
ORGANIZER;CN=Aloysius Ventham:
METHOD:PUBLISH
END:VEVENT
END:VCALENDAR
