BEGIN:VCALENDAR
PRODID:-//Grails iCalendar plugin//NONSGML Grails iCalendar plugin//EN
VERSION:2.0
CALSCALE:GREGORIAN
METHOD:PUBLISH
BEGIN:VEVENT
DTSTAMP:20260421T101431Z
DTSTART;TZID=America/Chicago:20260526T090000
DTEND;TZID=America/Chicago:20260530T170000
SUMMARY:New Perspectives in Philosophy of Psychiatry (AAPP 2025/ VMST-14)
UID:20260423T023951Z-iCalPlugin-Grails@philevents-web-6b96c54f56-bljdq
TZID:America/Chicago
LOCATION:University of Texas at Dallas\, Richardson\, United States\, 75080
DESCRIPTION:<p>This is a joint conference co-sponsored by the Association for the Advancement of Philosophy and Psychiatry (AAPP) and the Center for Values in Medicine\, Science\, and Technology (CVMST) at UT Dallas. The topic of the conference is New Perspectives in Philosophy of Psychiatry\, although presentations on any topic in philosophy of psychiatry are welcome.</p>
ORGANIZER;CN=Jonathan Y. Tsou;CN=Robyn Bluhm;CN="Şerife Tekin";CN=Peter Zachar;CN=John Sadler:
METHOD:PUBLISH
END:VEVENT
END:VCALENDAR
