BEGIN:VCALENDAR
PRODID:-//Grails iCalendar plugin//NONSGML Grails iCalendar plugin//EN
VERSION:2.0
CALSCALE:GREGORIAN
METHOD:PUBLISH
BEGIN:VEVENT
DTSTAMP:20260424T182355Z
DTSTART;TZID=Europe/Bucharest:20260320T100000
DTEND;TZID=Europe/Bucharest:20260322T170000
SUMMARY:4E Cognition and Marketing
UID:20260425T211719Z-iCalPlugin-Grails@philevents-web-6b96c54f56-bljdq
TZID:Europe/Bucharest
LOCATION:Splaiul Independentei nr. 204\, Bucharest\, Romania
DESCRIPTION:<p>The<strong> "4E Cognition and Marketing"&nbsp\;</strong>conference is organised by the Doctoral School of Philosophy\, Faculty of Philosophy\, University of Bucharest and CELFIS\, with the help of students from the Cognitive Science BA Programme\,Faculty of Psychology and Education Sciences\,&nbsp\;University of Bucharest. It<strong>&nbsp\;</strong>aims to bring together students and researchers in philosophy of mind\, cognitive science\, marketing and advertising in order to explore the way in which advances in 4E cognition (embodied\, embedded\, enacted\, and extended) bear on marketing/advertising practices and how cognitive scientists can gain insight from marketer&rsquo\;s data about user experiences (about attention\, perception\, decision making\, cognitive biases\, cognitive load).</p>\n<p>The conference will take place&nbsp\;<strong>20-22 March 2026</strong>\, between 10 AM- 6 PM\, local time for Bucharest\, Romania. Regular presentations will be 20 minutes long\, followed by 10 minutes long Q&amp\;A.</p>\n<p>It will have a&nbsp\;<strong>mixed format</strong>\, in that speakers may choose whether they present online only or face to face at the event's location (if so\, their session will enjoy a live audience\, but it will also be streamed to remote participants).</p>\n<p><strong>Topic areas:</strong></p>\n<ul>\n<li>4E cognition approaches to brand affinity: Are the brand&rsquo\;s meaning and the consumer&rsquo\;s loyalty shaped solely by how they &ldquo\;represent&rdquo\; the brand\, or does the interaction with the brand\, product (how they use the product)\, environment\, online presence (how they use websites\, applications) play an important role?</li>\n<li>How does the physical presentation of a product influence the user perception?</li>\n<li>What role does the environment play in the consumer&rsquo\;s decision-making process?</li>\n<li>How do external tools provided to the consumer become a part of the consumer&rsquo\;s cognitive processes?</li>\n</ul>
ORGANIZER;CN=Sandra-Catalina Branzaru;CN=Ioana-Ecaterina Fecioru;CN="Andrei Mărăşoiu":
METHOD:PUBLISH
END:VEVENT
END:VCALENDAR
