BEGIN:VCALENDAR
PRODID:-//Grails iCalendar plugin//NONSGML Grails iCalendar plugin//EN
VERSION:2.0
CALSCALE:GREGORIAN
METHOD:PUBLISH
BEGIN:VEVENT
DTSTAMP:20260420T194619Z
DTSTART;TZID=Europe/Berlin:20251120T140000
DTEND;TZID=Europe/Berlin:20251121T170000
SUMMARY:The Corporeality of Capitalism. The Female Body as Dominated Site of (Re-)Production
UID:20260420T231914Z-iCalPlugin-Grails@philevents-web-6b96c54f56-bljdq
TZID:Europe/Berlin
LOCATION:Berlin\, Germany
DESCRIPTION:<p><strong>The Corporeality of Capitalism: <br> The Female Body as Dominated Site of (Re-)Production<br>Class-Critical lessons beyond consciousness.</strong><br><br>While it is well-known that philosophies\, ranging from Marx to Lenin and from Gramsci to Negri\, have long been centered around the relation between the subject's (class-) <em>consciousness </em>and the system of capitalism\, the class-conditioned <em>corporeal body</em>\, let alone the <em>female </em>corporeal body (of color)\, has received relatively little (philosophical) attention.</p>\n<p><strong>This interdisciplinary workshop delves into how capitalism not only exploits the body externally but also shapes individuals' relationship with their own corporeality. It traces the historical and political adaptations of this dynamic\, which manifest particularly in gender- and race-based conditionings of class structures\, and examines how these modifications reshape practices like wet-nursing and breastfeeding&mdash\;often and falsely regarded as timeless and natural. </strong></p>\n<p>In examining the intersection of class-\, gender-\, and race-based domination through the corporeal(self-)experiences of breastfeeding and wet-nursing framed within a theory of capitalist domination\, this workshop <strong>both critiques and advances traditional Marxist and post-Marxist accounts of class</strong>. It <strong>brings together a wide variety of perspectives</strong> stemming from legal\, philosophical\, sociological and political theoretical engagements with differently conceptualized forms of domination. &nbsp\;<br> By foregrounding lived experiences\, that is\, by &ldquo\;corporealizing class&rdquo\;\, this workshop highlights how the body itself is a site of power and struggle\, rather than merely a passive object shaped by ideological forces.</p>\n<p>In gathering various insights on race- and gender-based conditions of class\, this workshop aims to provide <strong>new insights into the embodied dimensions of social inequality</strong> across different historical and social contexts.<br><br><strong>Speakers:</strong> Katherina Kinzel\, Rebecca Carson\, Johanna Oksala\, Carmen Puchinger\, Maria Toledo Machado\, Andrea Freeman&nbsp\; &nbsp\; &nbsp\; &nbsp\; &nbsp\; &nbsp\;</p>\n<p><strong>Commentators</strong>:&nbsp\;Dorothea G&auml\;deke\, Lillian Cicerchia\, Friederike Beier\, Esther Neuhann\, Elise Huchet\, Jenny Stupka<br><br><br>More detailed information can be found on the poster and in the program attached below.&nbsp\;</p>
ORGANIZER;CN=Carmen Puchinger:
METHOD:PUBLISH
END:VEVENT
END:VCALENDAR
