BEGIN:VCALENDAR
PRODID:-//Grails iCalendar plugin//NONSGML Grails iCalendar plugin//EN
VERSION:2.0
CALSCALE:GREGORIAN
METHOD:PUBLISH
BEGIN:VEVENT
DTSTAMP:20260421T232613Z
DTSTART;TZID=Europe/Vilnius:20260301T060000
DTEND;TZID=Europe/Vilnius:20260301T060000
SUMMARY:The 3rd Conference Logic and Philosophy: Historical and Contemporary Issues
UID:20260424T190315Z-iCalPlugin-Grails@philevents-web-6b96c54f56-bljdq
TZID:Europe/Vilnius
LOCATION:Vilnius\, Lithuania
DESCRIPTION:<p><em>Logic and Philosophy</em>&nbsp\;is a biennial conference organised and hosted by the Institute of Philosophy at Vilnius University. The conference is intended as a venue for philosophical discussions on logic broadly construed. We invite submissions that address philosophy of logic\, philosophical issues related to classical or non-classical logics\, the history of logic\, and philosophical applications of logic.</p>\n<p><strong>Keynote</strong>&nbsp\;<strong>Speakers</strong></p>\n<p>Alexander Paseau (University of Oxford)</p>\n<p>Gillian Russell (Australian National University)</p>\n<p>Catarina Dutilh Novaes (VU Amsterdam)</p>\n<p><strong>Abstract Submission</strong></p>\n<p>Prospective authors are invited to submit extended abstracts suitable for anonymous review by email to&nbsp\;<a href="mailto:logic@fsf.vu.lt">logic@fsf.vu.lt</a>. Abstracts should not exceed 800 words. Accepted speakers will be asked to present their papers in approximately 30-minute-long presentations\, followed by a Q&amp\;A. The deadline for submission is&nbsp\;<strong>1 March 2026</strong>. The date of notification is&nbsp\;<strong>15 March 2026.</strong></p>\n<p><strong>Important dates</strong></p>\n<p>Abstract submission: 1 March 2026</p>\n<p>Author notification: 15 March 2026</p>\n<p>Conference: 22 - 23 May 2026</p>\n<p><strong>Registration fees</strong></p>\n<p>Students 50&euro\;</p>\n<p>Non-students 100&euro\;</p>\n<p>(Registration fee covers the conference dinner\; waivers might be considered)</p>\n<p><strong>Conference Venue</strong></p>\n<p>Faculty of Philosophy\, Vilnius University\, Universiteto street 9\, Vilnius\, Lithuania.</p>\n<p><strong>Organizers</strong></p>\n<p>Jonas Dagys (Vilnius University)\, Mindaugas Gilaitis (Vilnius University)\, Pranci&scaron\;kus Gricius (University of Oxford)\, Živilė Pabijutaitė (Vilnius University)\, Monika Morkūnaitė (Vilnius University)\,&nbsp\;Paulius Rimkevičius (Vilnius University)</p>\n<p>Institute of Philosophy\, Vilnius University</p>\n<p><a href="https://www.fsf.vu.lt/en/">https://www.fsf.vu.lt/en/</a></p>\n<p>Please direct all inquiries by email to&nbsp\;<a href="mailto:logic@fsf.vu.lt">logic@fsf.vu.lt</a>\, or directly to <a href="mailto:jonas.dagys@fsf.vu.lt">jonas.dagys@fsf.vu.lt</a>&nbsp\;or&nbsp\;<a href="mailto:pranciskus.gricius@st-hildas.ox.ac.uk">pranciskus.gricius@st-hildas.ox.ac.uk</a></p>\n<p>The event is free to attend. If you intend to come to the conference as a non-speaker\, please register by sending an email&nbsp\;to logic@fsf.vu.lt. The deadline for registration is May 15\, 2026.</p>
ORGANIZER:
METHOD:PUBLISH
END:VEVENT
END:VCALENDAR
