BEGIN:VCALENDAR
PRODID:-//Grails iCalendar plugin//NONSGML Grails iCalendar plugin//EN
VERSION:2.0
CALSCALE:GREGORIAN
METHOD:PUBLISH
BEGIN:VEVENT
DTSTAMP:20260420T092838Z
DTSTART;TZID=Europe/Amsterdam:20260623T090000
DTEND;TZID=Europe/Amsterdam:20260625T170000
SUMMARY:XXV European Symposium on Medieval Logic and Semantics
UID:20260424T165605Z-iCalPlugin-Grails@philevents-web-f5d4878dd-nv7xt
TZID:Europe/Amsterdam
LOCATION:Vennenpad\, 5\, Nunspeet\, Netherlands
DESCRIPTION:<p>We are very pleased to announce that the XXV European Symposium on Medieval Logic and<br>Semantics will be hosted by Radboud University (Netherlands) on June 23-25\, 2026.</p>\n<p><br>The topic\, chosen at the last ESMLS in Parma\, is Logic and the Sciences. We invite potential<br>speakers to send us proposals for talks of 30 minutes (plus 15 for discussion) on the interplay<br>between logic (broadly construed) and the sciences (including the natural and mathematical<br>sciences and the sciences of language and theology) during the Long Middle Ages (200&ndash\;1700).<br>We welcome submissions relating to any branch of the Western philosophical tradition (Latin\,<br>Arabic\, Greek\, etc.).</p>
ORGANIZER;CN="Gabriel Andrés Molero";CN=Maria A. Sidau;CN=Mark Thakkar;CN=Graziana S. Ciola;CN=Alexander Lamprakis:
METHOD:PUBLISH
END:VEVENT
END:VCALENDAR
