BEGIN:VCALENDAR
PRODID:-//Grails iCalendar plugin//NONSGML Grails iCalendar plugin//EN
VERSION:2.0
CALSCALE:GREGORIAN
METHOD:PUBLISH
BEGIN:VEVENT
DTSTAMP:20260420T012235Z
DTSTART;TZID=Europe/London:20260420T090000
DTEND;TZID=Europe/London:20260420T090000
SUMMARY:Algorithmic Bias\, Phallicism & Counter-Insurgency: Understanding the Racialized Male Target
UID:20260423T054750Z-iCalPlugin-Grails@philevents-web-f5d4878dd-nv7xt
TZID:Europe/London
DESCRIPTION:<p>Algorithmic Bias\, Phallicism &amp\; Counter-Insurgency: Understanding the Racialized Male Target</p>\n<p>Hosted by the Clay-Gilmore Institute for Philosophy\, Technology\, and Counterinsurgency (CG-IPTC) in collaboration with the Algorithmic Bias Project in Canada &amp\; Centre for Ethics\, University of Toronto</p>\n<p>Workshop (in-person &amp\; online): Summer 2026</p>\n<p>Conference (University of Toronto): Winter 2027</p>\n<p>Edited Anthology (same title): 2027&ndash\;2028</p>\n<p><u>Overview</u></p>\n<p>The Clay-Gilmore Institute for Philosophy\, Technology\, and Counterinsurgency (CG-IPTC)\, in collaboration with the Centre for Ethics at the University of Toronto\, invites abstract submissions for an interdisciplinary workshop and subsequent international conference addressing how racism is being reproduced through AI and how AI technologies can be located within the long history of slavery and colonization.</p>\n<p>This initiative situates algorithms\, data infrastructures\, and AI-enabled systems of surveillance within longer genealogies of colonial militarism\, genocide\, racial capitalism\, and counterinsurgency doctrine. We are especially interested in work that theorizes and historicizes the racialized male body as a primary site of technological targeting\, focusing on how Black and racialized men have been repeatedly constructed as objects of risk\, control\, expendability\, and elimination across colonial\, military\, and data-driven regimes. This project develops what we call the technologization of counterinsurgency: the translation of racialized fear\, militarized governance\, and tactical logics into algorithmic systems of prediction\, classification\, and surveillance.</p>\n<p><u>We seek 10&ndash\;12 contributors whose work will form the basis of:</u></p>\n<p>&bull\; a Summer 2026 in-person workshop</p>\n<p>&bull\; a Winter 2027 conference at the University of Toronto</p>\n<p>&bull\; an edited anthology by the same title</p>\n<p><u>Core Themes &ndash\; Submissions should engage one or more of the following themes:</u></p>\n<p>Algorithmic Targeting and the Racialization of Risk</p>\n<p>Phallicism\, Gendercide\, and the Political Construction of the &ldquo\;Dangerous Male&rdquo\;</p>\n<p>Counterinsurgency Logics in Contemporary AI Systems</p>\n<p>Genocide Studies and Slow Violence: From Camps to Code</p>\n<p>Necro-Being\, Social Death\, and Digital Ontologies of the Racialized Male</p>\n<p>Militarized Data and the War Origins of Artificial Intelligence</p>\n<p>Mapping the Racialized Body: Computer Vision and the Politics of Recognition</p>\n<p>Statistical Objects and the Colonial Invention of Populations</p>\n<p>Philosophy of Technology and the Myth of Neutral Systems</p>\n<p>Predictive Policing\, &ldquo\;Pre-Crime\,&rdquo\; and Temporal Violence</p>\n<p>Resistance\, Refusal\, and Counter-Surveillance Practices</p>\n<p>Art\, Visualization\, and the Algorithmic Imagination</p>\n<p><u>We particularly encourage work that</u>:</p>\n<p>&bull\; Connects AI technologies to colonial\, genocidal\, and military histories</p>\n<p>&bull\; Engages Black Male Studies\, Africana philosophy\, Black Power thought\, and especially Phallicism</p>\n<p>&bull\; Analyzes facial recognition\, predictive policing\, gang databases\, drone warfare\, biometric surveillance\, risk modeling\, or &ldquo\;pattern-of-life&rdquo\; technologies</p>\n<p>&bull\; Employs philosophical\, historical\, ethnographic\, legal\, technical\, artistic\, or data-driven methods</p>\n<p><em>Submissions may be traditional academic papers or include creative\, visual\, or experimental components.</em></p>\n<p><u>Submission Guidelines</u></p>\n<p>Please submit the following materials by April 15\, 2026:</p>\n<p>&bull\; Abstract (300&ndash\;500 words)</p>\n<p>&bull\; Short bio (max 150 words)</p>\n<p>&bull\; Institutional affiliation (if any)</p>\n<p>&bull\; Contact information</p>\n<p>Send submissions to:&nbsp\;miron.claygilmore@utoronto.ca</p>\n<p>Subject line:&nbsp\;<em>Algorithmic Bias/CG-IPTC CFP &ndash\; [Your Last Name]</em></p>\n<p>We strongly encourage submissions from:</p>\n<p>&bull\; Early-career researchers</p>\n<p>&bull\; Black\, Indigenous\, and racialized scholars</p>\n<p>&bull\; Scholars from the Global South</p>\n<p>&bull\; Independent researchers and artists</p>\n<p>&bull\; Community\, abolitionist\, and activist practitioners</p>\n<p>Limited travel support will be available for selected participants when possible.</p>\n<p>Timeline</p>\n<p>Abstract deadline: April 15\, 2026</p>\n<p>Decisions announced: May 15\, 2026</p>\n<p>Workshop (selected participants): July 2026</p>\n<p>Full paper drafts due: December 2026</p>\n<p>Conference: March 2027 (University of Toronto)</p>\n<p>Final revised papers due: May 2027</p>\n<p>Edited anthology publication: 2027&ndash\;2028</p>\n<p>About the Hosts</p>\n<p><u>The Clay-Gilmore Institute for Philosophy\, Technology\, and Counterinsurgency (CG-IPTC)</u>&nbsp\;is an independent research institute dedicated to examining the connections between of artificial intelligence\, liberal humanism\, racialization\, and militarized state power. Through philosophical inquiry\, historical analysis\, and data-driven research\, it investigates the technological infrastructures that govern life\, death\, and social control. Website:&nbsp\;https://www.cg-iptc.org</p>\n<p><u>The Centre for Ethics\, University of Toronto</u>&nbsp\;is a leading interdisciplinary research center engaged in critical inquiry into emerging technologies\, governance\, and public life. It supports innovative scholarship at the intersection of ethics\, science\, and society.</p>\n<p>Together\, this collaboration responds to the urgent need to interrogate the role of AI in the reproduction of racialized violence\, population control\, and the management of life and death in the contemporary world. Website:&nbsp\;https://algorithmicbias.ca</p>
ORGANIZER:
METHOD:PUBLISH
END:VEVENT
END:VCALENDAR
