BEGIN:VCALENDAR
PRODID:-//Grails iCalendar plugin//NONSGML Grails iCalendar plugin//EN
VERSION:2.0
CALSCALE:GREGORIAN
METHOD:PUBLISH
BEGIN:VEVENT
DTSTAMP:20260422T144632Z
DTSTART;TZID=America/New_York:20260109T234500
DTEND;TZID=America/New_York:20260109T234500
SUMMARY:6th Upstate Workshop on AI and Human Values
UID:20260426T130244Z-iCalPlugin-Grails@philevents-web-6b96c54f56-bljdq
TZID:America/New_York
LOCATION:Lattimore Hall\, University of Rochester\, Rochester\, United States
DESCRIPTION:<p>Scholars working on the ethics or philosophy of artificial intelligence are invited to submit paper abstracts for a manuscript workshop to be held at the University of Rochester\, on April 24\, 2026.</p>\n<p>The workshop is open to papers on normative or philosophical aspects of AI. As such\, any paper on the theme is eligible for consideration. Possible topics include\, but are not limited to:</p>\n<p><a name="_Hlk213067350"></a>●&nbsp\;&nbsp\;&nbsp\;&nbsp\; understanding and consciousness in algorithmic systems\,</p>\n<p>●&nbsp\;&nbsp\;&nbsp\;&nbsp\; the ethics of algorithmic systems\,</p>\n<p>●&nbsp\;&nbsp\;&nbsp\;&nbsp\; dealing with value disagreement in algorithmic systems\,</p>\n<p>●&nbsp\;&nbsp\;&nbsp\;&nbsp\; explainability and justification by algorithmic systems\,</p>\n<p>●&nbsp\;&nbsp\;&nbsp\;&nbsp\; philosophy of science as applied to data science and algorithmic systems.</p>\n<p>Faculty\, postdoctoral fellows\, and doctoral students in philosophy or cognate disciplines (political theory\, law\, and others) are invited to <strong>submit proposals by January 9\, 2026</strong>. With the aim of advancing scholarship within the region of the Central New York Humanities Corridor\, preference may be given to scholars at corridor institutions.</p>\n<p>Submissions should be submitted to Jon Herington (<a href="mailto:jonathan.herington@rochester.edu">jonathan.herington@rochester.edu</a>) Submissions should include the full name\, email\, and institutional affiliation of the author(s)\, as well as a detailed abstract of approximately 500 words prepared for blind review.&nbsp\; Notifications will be made on or about January 22\, 2026<strong>.</strong></p>\n<p><a name="_Hlk213067297"></a>In support of a productive workshop\, accepted papers will be circulated in advance of the conference so that all participants can read them ahead of time and the meeting can focus on critical feedback and discussion. Full papers (up to 10\,000 words) must be submitted to the conference organizers no later than <strong>March 27\, 2026</strong> to be distributed.</p>\n<p>Faculty\, staff and graduate students at one of the Corridor institutions (broadly those colleges and Universities in New York located between Albany and Rochester) may be eligible for a re-imbursement of travel costs. Please see the full eligibility criteria here: https://www.cnycorridor.net/resources/intra-corridor-travel-supplement/</p>\n<p>Questions should be directed to Jon Herington (<a href="mailto:Jonathan.Herington@rochester.edu">Jonathan.Herington@rochester.edu</a>). Organized by: Jonathan Herington (U of Rochester)\, Jens Kipper (U of Rochester) and Rush Stewart (U of Rochester)</p>\n<p>Videos of talks at our previous events can be found here: <a href="https://www.youtube.com/channel/UCsLYYnYQrt7eCxD7h9YzDBw">https://www.youtube.com/channel/UCsLYYnYQrt7eCxD7h9YzDBw</a></p>\n<p>Co-Sponsored by the <a href="https://www.sas.rochester.edu/humanities/">University of Rochester's Humanities Center</a> and the <a href="https://www.cnycorridor.net/">Central New York Humanities Corridor</a> from an award by the Andrew W. Mellon Foundation</p>
ORGANIZER;CN=Jonathan Herington;CN=Rush T. Stewart;CN=Jens Kipper:
METHOD:PUBLISH
END:VEVENT
END:VCALENDAR
