BEGIN:VCALENDAR
PRODID:-//Grails iCalendar plugin//NONSGML Grails iCalendar plugin//EN
VERSION:2.0
CALSCALE:GREGORIAN
METHOD:PUBLISH
BEGIN:VEVENT
DTSTAMP:20260426T022951Z
DTSTART;TZID=Europe/London:20260430T120000
DTEND;TZID=Europe/London:20260430T120000
SUMMARY:Medusa: An Undergraduate Journal of Feminist Philosophy
UID:20260428T044344Z-iCalPlugin-Grails@philevents-web-6b96c54f56-bljdq
TZID:Europe/London
DESCRIPTION:<p><em>Medusa </em>journal is seeking undergraduate feminist philosophy/ feminist theory papers to be published in the third issue of&nbsp\;<em>Medusa: An Undergraduate Journal of Feminist Philosophy</em>. Students need not be philosophy majors/minors or WGS majors/minors\, and we are accepting submissions between 2000-8000 words that allows students to submit shorter pieces they have worked on in class.</p>\n<p><em>Medusa</em>&nbsp\;is an interdisciplinary peer-reviewed journal seeking feminist scholarship across a variety of disciplines and approaches. We welcome submissions from all philosophical traditions (whether analytic or continental) and encourage papers that bridge feminist thought with other critical\, cultural\, gender\, literary\, queer\, race\, disability\, social\, political theories. The journal is housed at the Mississippi University for Women\, the first state-supported college for women. Here are the submission guidelines (Deadline April 30\, 2026):https://www.muw.edu/medusa/submission-guidelines/</p>\n<p>Our reviewers are graduate students who specialize or have extensive knowledge in the field of feminist philosophy. If you know graduate students that would like to review for&nbsp\;<em>Medusa</em>\, please contact me&nbsp\;at jmdrouillard@muw.edu.</p>\n<p>Both the Mississippi Philosophical Association and&nbsp\;<em>philo</em>SOPHIA have held undergraduate panels in feminist philosophy where selected student papers became eligible for publication in&nbsp\;<em>Medusa</em>. If you are hosting a conference and would like to set up a similar panel\, let me know!</p>\n<p>We are also exploring other creative ways to give voice to undergraduate feminist voices in&nbsp\;<em>Medusa</em>\, so if you have ideas for the journal\, we&rsquo\;d love to hear from you!</p>\n<p>Follow us on Instagram:https://www.instagram.com/medusa_journal_muw/</p>\n<p>For more information about&nbsp\;<em>Medusa</em>\, check out the interview in the APA Blog:https://blog.apaonline.org/2024/08/13/medusa-an-undergraduate-journal-of-feminist-philosophy/</p>\n<p>Check out our first two issues here:&nbsp\;https://www.muw.edu/medusa/issues/</p>\nhttps://www.muw.edu/medusa/</a>
ORGANIZER:
METHOD:PUBLISH
END:VEVENT
END:VCALENDAR
