BEGIN:VCALENDAR
PRODID:-//Grails iCalendar plugin//NONSGML Grails iCalendar plugin//EN
VERSION:2.0
CALSCALE:GREGORIAN
METHOD:PUBLISH
BEGIN:VEVENT
DTSTAMP:20260426T042814Z
DTSTART;TZID=America/New_York:20260215T130000
DTEND;TZID=America/New_York:20260215T130000
SUMMARY:George and Georgism: New Directions
UID:20260428T080816Z-iCalPlugin-Grails@philevents-web-6b96c54f56-bljdq
TZID:America/New_York
LOCATION:3733 Spruce Street\, Philadelphia\, United States\, 19104
DESCRIPTION:<p>George and Georgism: New Directions</p>\n<p><strong><br></strong></p>\n<p>Wharton School</p>\n<p>University of Pennsylvania</p>\n<p>Philadelphia\, PA</p>\n<p>May 8\, 2026</p>\n<p><strong><br></strong></p>\n<p>Call For Papers</p>\n<p><strong><br></strong></p>\n<p>Henry George was arguably the most important American political economist of the nineteenth century. At the time of his death in 1898\, his works could be found in hundreds of thousands of middle-class American households\, and even mid-sized American cities could boast a range of associations devoted to his ideas\, especially including his proposal for a single tax on the value of land. Today\, however\, his works and ideas are little studied and even less understood. This conference is part of a multi-pronged effort\, funded by the Progress and Poverty Institute\, to revive research on George and Georgism among political philosophers\, political theorists\, and scholars in adjacent disciplines.&nbsp\;&nbsp\;</p>\n<p><strong><br></strong></p>\n<p>The conference will feature Billy Christmas (West Virginia) and Michael Otsuka (Rutgers) as invited speakers alongside three or four presenters chosen through this call. We invite contributions that explore George&rsquo\;s texts (or those of related authors)\, develop or critique Georgist ideas\, or both. Topics of interest include\, but are not limited to:</p>\n<p><strong><br></strong></p>\n<p>Exegesis and analysis of the works of Henry George or related authors (e.g.\, Herbert Spencer\, the American &ldquo\;labour republicans\,&rdquo\; J.S. Mill (on political economy)\, John Francis Bray)\;</p>\n<p><strong><br></strong></p>\n<p>Comparative study of George and related authors\, including major figures in nineteenth-century political economy (e.g.\, Ricardo\, James Mill\, Marx)\;</p>\n<p><strong><br></strong></p>\n<p>Development or critique of Georgist ideas as potential contributions to contemporary political philosophy or political theory\;</p>\n<p><strong><br></strong></p>\n<p>Applications (supportive or critical) of Georgist ideas to contemporary economic problems policy questions.</p>\n<p><strong><br></strong></p>\n<p>Call for Abstracts</p>\n<p>If you are interested in presenting your paper (forty-five minute presentation followed by fifteen minutes of discussion)\, please send an abstract of no more than 1\,000 words to Daniel Layman at dalayman@davidson.edu&nbsp\; by February 15\, 2026. Selected papers will be announced by March 1\, 2026.&nbsp\;</p>\n<p><strong><br></strong></p>\n<p>Funding</p>\n<p>Travel and lodging costs for selected presenters\, as well as food during the event\, will be paid for by the Progress and Poverty Institute.&nbsp\;</p>\n<p><strong><br></strong></p>\n<p>Organizers</p>\n<p>Paul Forrester</p>\n<p>Legal Studies and Business Ethics</p>\n<p>Wharton School</p>\n<p>University of Pennsylvania</p>\n<p>pforr@wharton.upenn.edu</p>\n<p><strong><br></strong></p>\n<p>Daniel Layman</p>\n<p>Department of Philosophy and Program in Philosophy\, Politics\, and Economics</p>\n<p>Davidson College</p>\n<p>dalayman@davidson.edu</p>\n<p><strong><br></strong></p>\n<p>Otto Lehto</p>\n<p>Classical Liberal Institute</p>\n<p>NYU School of Law</p>\n<p>oil2002@nyu.edu</p>\n<p><strong><br></strong></p>\n<p>Acknowledgement</p>\n<p>This symposium is supported by a grant from the Progress and Poverty Institute.</p>
ORGANIZER;CN=Daniel Layman;CN=Paul Forrester;CN=Otto Lehto:
METHOD:PUBLISH
END:VEVENT
END:VCALENDAR
