BEGIN:VCALENDAR
PRODID:-//Grails iCalendar plugin//NONSGML Grails iCalendar plugin//EN
VERSION:2.0
CALSCALE:GREGORIAN
METHOD:PUBLISH
BEGIN:VEVENT
DTSTAMP:20260420T075520Z
DTSTART;TZID=Europe/Berlin:20260101T000000
DTEND;TZID=Europe/Berlin:20260101T000000
SUMMARY:FrankMeta.8
UID:20260424T094626Z-iCalPlugin-Grails@philevents-web-f5d4878dd-nv7xt
TZID:Europe/Berlin
LOCATION:Frankfurt am Main\, Germany
DESCRIPTION:<p>Call for Papers:</p>\n<p><strong>FrankMeta.8&mdash\;8th Annual Frankfurt Metaethics Conference</strong></p>\n<p>Frankfurt School of Finance &amp\; Management</p>\n<p>Frankfurt\, Germany</p>\n<p>19th&nbsp\;&amp\; 20th&nbsp\;of June 2026</p>\n<p>******************</p>\n<p><br><strong>Confirmed Speakers:</strong><br>Sarah McGrath (Princeton)</p>\n<p>Michael Ridge (Edinburgh)</p>\n<p>Christine Tappolet (Montr&eacute\;al)</p>\n<p><strong>Conference:</strong></p>\n<p>FrankMeta.8 is designed to bring together philosophers working on normativity and metanormativity\, broadly construed. We invite submissions on new work in the metaphysics\, (meta)semantics\, epistemology and psychology of normative discourse\, as well as papers on reasons and rationality.</p>\n\n<p>The conference will run over two days and provide plenty of time for discussion and exchange. Five slots for contributed papers have been scheduled. A limited number of conference bursaries are available. There will be no conference fee.</p>\n<p><strong>Submission Deadline:</strong></p>\n<p>We welcome papers on any topic falling within the scope of the conference. Please submit an extended abstract (max. 1\,000 words\, prepared for blind review) by the 31st&nbsp\;of December 2025 to&nbsp\;FrankMeta@fs.de. Papers should be suitable for 30-40 minutes&rsquo\; presentations.&nbsp\;</p>\n\n<p><strong>Organisers:</strong><br>Derek Baker (Frankfurt\,&nbsp\;d.baker@fs.de)</p>\n<p>Sebastian K&ouml\;hler (Frankfurt\,&nbsp\;s.koehler@fs.de)<br>Christine Tiefensee (Frankfurt\,&nbsp\;c.tiefensee@fs.de)</p>
ORGANIZER;CN="Sebastian Köhler";CN=Christine Tiefensee:
METHOD:PUBLISH
END:VEVENT
END:VCALENDAR
