BEGIN:VCALENDAR
PRODID:-//Grails iCalendar plugin//NONSGML Grails iCalendar plugin//EN
VERSION:2.0
CALSCALE:GREGORIAN
METHOD:PUBLISH
BEGIN:VEVENT
DTSTAMP:20260424T022422Z
DTSTART;TZID=Europe/Athens:20260629T090000
DTEND;TZID=Europe/Athens:20260701T170000
SUMMARY:Wittgenstein and Ancient Philosophy
UID:20260501T020524Z-iCalPlugin-Grails@philevents-web-6b96c54f56-bljdq
TZID:Europe/Athens
LOCATION:Athens\, Greece
DESCRIPTION:<p><strong>Call for papers open</strong></p>\n<p><strong>Wittgenstein and Ancient Philosophy&nbsp\;</strong>(29.6&ndash\;1.7.2026 Athens\, Greece)<strong></strong></p>\n<p>Ludwig Wittgenstein&rsquo\;s relation to the history of ancient philosophy constitutes a riddle. Wittgenstein was certainly not a scholarly oriented philosopher\, who would have commented at large on classical works like Aristotle&rsquo\;s&nbsp\;<em>Metaphysics</em>\, or entered disputes concerning their correct interpretation. On the other hand\, it is well known that Wittgenstein had read select classical philosophical authors and was deeply impressed by them: after all\, he started his&nbsp\;<em>Philosophical Investigations</em>&nbsp\;with a Latin quotation from St. Augustine&rsquo\;s&nbsp\;<em>Confessiones</em>\, and he refers or alludes to Plato&rsquo\;s dialogues in many contexts (e.g. PI &sect\;46). Some manuscripts and typescripts contain further references to various ancient philosophers.</p>\n<p>The conference &ldquo\;Wittgenstein and Ancient Philosophy&rdquo\; invites scholars to discuss Wittgenstein&rsquo\;s relation to the heritage of ancient (Greek and Roman) philosophy. We invite contributions that explore the topic understood in a broad fashion. Possible themes include &ndash\; but are not limited to &ndash\; Wittgenstein&rsquo\;s references to ancient authors\; connections and parallels between Wittgenstein and early Greek philosophy\, Socrates\, Plato and Platonism\, Aristotle\, and Hellenistic and Roman schools of thought\; or classics of ancient philosophy revisited in the light of Wittgenstein&rsquo\;s insights (and vice versa). We are also open to promising papers that discuss Wittgenstein in relation to other genres of ancient Greek literature.<br><br>We welcome paper proposals for the conference. Abstracts up to 500 words should be submitted by email to&nbsp\;<a title="">wittgenstein@finninstitute.gr</a>. Abstracts should include the author&rsquo\;s name\, affiliation\, contact information\, and the title of the paper. Accepted proposals will be given a presentation time of 40 minutes (25 minutes for presentation and 15 minutes for discussion).</p>\n<p>The deadline for proposals is&nbsp\;<strong>31 January 2026</strong>.<br>Notification of acceptance will be sent out by&nbsp\;<strong>28 February 2026</strong>.</p>\n<p>There is no conference fee. However\, selected speakers should be prepared to pay for their own travel and accommodation.</p>\n<p>Invited keynote speakers:<br>James Conant (University of Chicago)<br>Constantine Sandis (University of Hertfordshire)<br>Thomas Wallgren (University of Helsinki)</p>\n<p>Organizing committee:</p>\n<p>Prof. Vasso Kindi (National and Kapodistrian University of Athens)</p>\n<p>Dr. Lassi Jakola (Finnish Institute of Athens and University of Helsinki)</p>
ORGANIZER;CN=Vasso Kindi;CN=Lassi Jakola:
METHOD:PUBLISH
END:VEVENT
END:VCALENDAR
