BEGIN:VCALENDAR
PRODID:-//Grails iCalendar plugin//NONSGML Grails iCalendar plugin//EN
VERSION:2.0
CALSCALE:GREGORIAN
METHOD:PUBLISH
BEGIN:VEVENT
DTSTAMP:20260422T171538Z
DTSTART;TZID=Europe/London:20260201T234500
DTEND;TZID=Europe/London:20260201T234500
SUMMARY:Virtues and Vices of Spiritual Yearning
UID:20260427T005008Z-iCalPlugin-Grails@philevents-web-6b96c54f56-bljdq
TZID:Europe/London
DESCRIPTION:<p>The John Templeton Foundation&ndash\;funded project &ldquo\;Virtues and Vices of Spiritual Yearning&rdquo\; invites letters of intent for eight two-year sub-grants on the project theme: four primarily philosophical projects (up to $100\,000 USD each) and four projects with a significant empirical/psychological component (up to $250\,000 USD each). Projects will explore the constructive and destructive roles of spiritual yearning (religious or secular) in human life\, broadly construed and across diverse traditions and cultural contexts. LOIs (1\,000&ndash\;1\,500 words) are due February 1\, 2026\; full proposals (by invitation only) are due July 1\, 2026.</p>
ORGANIZER:
METHOD:PUBLISH
END:VEVENT
END:VCALENDAR
