BEGIN:VCALENDAR
PRODID:-//Grails iCalendar plugin//NONSGML Grails iCalendar plugin//EN
VERSION:2.0
CALSCALE:GREGORIAN
METHOD:PUBLISH
BEGIN:VEVENT
DTSTAMP:20260420T075826Z
DTSTART;TZID=Europe/Vienna:20260611T090000
DTEND;TZID=Europe/Vienna:20260612T170000
SUMMARY:POLEMO – GOODINT Symposium: Justice\, Integration & Democracy
UID:20260424T094936Z-iCalPlugin-Grails@philevents-web-f5d4878dd-nv7xt
TZID:Europe/Vienna
LOCATION:Quellenstraße 51\, Vienna\, Austria\, 1100
DESCRIPTION:<p>The Political\, Legal\, and Moral Philosophy Research Group (POLEMO) at Central European University kindly invites submissions for its annual conference\, the 7th POLEMO Symposium\, which will take place on&nbsp\;<strong>the 11th and 12th of June 2026 in Vienna\, Austria.</strong></p>\n<p>The Symposium provides a professional\, stimulating\, and international environment for PhD students and early career researchers in political\, legal\, and moral philosophy to discuss their works in progress\, establish informal networks\, and initiate future collaborative research.</p>\n<p>We are delighted to announce that our keynote speakers for the 2026 Symposium will be:</p>\n<ul>\n<li>Antoinette Scherz (The University of Stockholm)</li>\n<li>Sarah Fine (The University of Cambridge)</li>\n</ul>\n<p>We welcome early-career researchers in political theory and political philosophy to submit&nbsp\;<strong>abstracts of 700 words or less by email to&nbsp\;polemo@ceu.edu&nbsp\;by the deadline of 1st March 2026.</strong></p>\n<p><strong>Abstracts should be in PDF format and fully prepared for blind review.</strong>&nbsp\;Please include your name\, institutional affiliation\, and contact information in the body of your email. Papers should be suitable for a 20-minute presentation. We will endeavour&nbsp\;to communicate a decision by the 1st April 2026.</p>\n<p>The conference will be held at CEU's campus in Vienna. It is planned as a fully in-person event.</p>\n<p>Attendance is free of charge and open to anyone upon registration. Please note that POLEMO is unable to provide financial assistance for participants though lunches\, coffee breaks\, and a conference dinner will be covered for participants over the duration of the conference.&nbsp\;</p>\n<p>If you have any questions\, please contact us at&nbsp\;polemo@ceu.edu. For more information\, please see the details of previous symposia&nbsp\;here.</p>
ORGANIZER;CN=Matthew Haji-Michael:
METHOD:PUBLISH
END:VEVENT
END:VCALENDAR
