BEGIN:VCALENDAR
PRODID:-//Grails iCalendar plugin//NONSGML Grails iCalendar plugin//EN
VERSION:2.0
CALSCALE:GREGORIAN
METHOD:PUBLISH
BEGIN:VEVENT
DTSTAMP:20260420T075703Z
DTSTART;TZID=Europe/Madrid:20260615T090000
DTEND;TZID=Europe/Madrid:20260619T170000
SUMMARY:Valencia Philosophy Lab Summer School: Mind and Rationality
UID:20260424T094743Z-iCalPlugin-Grails@philevents-web-f5d4878dd-nv7xt
TZID:Europe/Madrid
LOCATION:Av. Blasco Ibañez\, 30\, Valencia\, Spain
DESCRIPTION:<p>The Valencia Philosophy Lab organizes a Summer School on Mind and Rationality\, which will take place at the University of Valencia on June 15-19\, 2026.</p>\n<p>The Summer School is addressed to PhD students\, post-docs\, and early-career researchers. It will cover four sub-topics:</p>\n<p>(1) self-knowledge\;</p>\n<p>(2) agency\;</p>\n<p>(3) inner speech\; and</p>\n<p>(4) emotion and affect.</p>\n<p><strong>Summer School faculty</strong>:</p>\n<p>Peter Carruthers (University of Maryland)</p>\n<p>Josep Corb&iacute\; (University of Valencia)</p>\n<p>Daniel Gregory (University of Valencia)</p>\n<p>Nikola Kompa (University of Osnabr&uuml\;ck)</p>\n<p>Krista Lawlor (Stanford University)</p>\n<p>Moritz M&uuml\;ller (University of Valencia)</p>\n<p>Myrto Mylopoulos (Carleton University)</p>\n<p>Chon Tejedor (University of Valencia)</p>\n<p><strong>Structure</strong>:</p>\n<p>Monday (15/6)\, Tuesday (16/6)\, Thursday (18/6)\, and Friday (19/6). Morning: two faculty presentations on one sub-topic. Afternoon: presentations by participants plus group discussion.</p>\n<p>Wednesday (17/6). Morning: presentations by faculty speakers and discussion about experience in the profession (including publishing\, jobs\, job applications\, and life in academia). Afternoon: free.</p>\n<p><strong>Applications</strong>:</p>\n<p>Please send the following to vlcphilosophylab@gmail.com (the subject line should read &ldquo\;SUMMER SCHOOL\, Your Name&rdquo\;):</p>\n<p>1. your CV\;</p>\n<p>2. a 500-word abstract (please specify the sub-topic your presentation falls into).</p>\n<p>We do not have strict constraints about what will be considered as &ldquo\;early career\,&rdquo\; but researchers up to three years post-PhD will be prioritized.</p>\n<p>If you would like to attend the Summer School without giving a presentation\, please just send a CV.</p>\n<p><strong><u>Deadline for applications: February 15\, 2026.</u></strong></p>\n<p>Notification of acceptance: March 16\, 2026.</p>\n<p><strong>Fees and bursaries</strong>:</p>\n<p>Participation in the Summer School is free. We may be able to offer accommodation and an amount to offset travel expenses for participants who do not have any research funds. If you are interested in this\, please contact us after the selection process.</p>\n<p>For any inquiries or further information\, please contact vlcphilosophylab@gmail.com or anna.giustina@outlook.com.</p>\n<p><strong>Organizers</strong>:</p>\n<p>Daniel Gregory (University of Valencia)</p>\n<p>Anna Giustina (University of Valencia)</p>\n<p>Carlota Serrahima (University of Valencia)</p>\n<p><strong>Scientific Committee</strong>:</p>\n<p>Aar&oacute\;n &Aacute\;lvarez-Gonz&aacute\;lez (University of Valencia)</p>\n<p>Marc Artiga (University of Valencia)</p>\n<p>Virginia Ballesteros (University of Valencia)</p>\n<p>Francesco Consiglio (University of Valencia)</p>\n<p>Anna Giustina (University of Valencia)</p>\n<p>Daniel Gregory (University of Valencia)</p>\n<p>Fabian Hundertmark (University of Valencia)</p>\n<p>Carlota Serrahima (University of Valencia)</p>\n<p><strong>Funding</strong>:</p>\n<p>Autonomy as Address (CIPROM/2023/55)\, funded by Conselleria d&rsquo\; Innovaci&oacute\;\, Universitats\, Ci&egrave\;ncia i Societat Digital &ndash\; Generalitat Valenciana (PIs: Josep Corb&iacute\; and Marc Artiga).</p>\n<p>Know Yourself: The Importance\, the Nature\, and the Applications of Introspective Self-Knowledge (PID2023-151949NA-I00)\, funded by Ministerio de Ciencia\, Innovaci&oacute\;n y Universidades (PI: Anna Giustina).</p>\n<p>Deceptive Representations (CISEJI/2023/51) funded by the Generalitat Valenciana\, Conselleria d&rsquo\;Educaci&oacute\;\, Universitats i Ocupaci&oacute\; (PI: Marc Artiga).</p>
ORGANIZER;CN=Anna Giustina;CN=Daniel Gregory;CN=Carlota Serrahima:
METHOD:PUBLISH
END:VEVENT
END:VCALENDAR
