BEGIN:VCALENDAR
PRODID:-//Grails iCalendar plugin//NONSGML Grails iCalendar plugin//EN
VERSION:2.0
CALSCALE:GREGORIAN
METHOD:PUBLISH
BEGIN:VEVENT
DTSTAMP:20260419T145731Z
DTSTART;TZID=Pacific/Auckland:20260705T160000
DTEND;TZID=Pacific/Auckland:20260709T170000
SUMMARY:2026 AAP Conference
UID:20260420T221242Z-iCalPlugin-Grails@philevents-web-f5d4878dd-nv7xt
TZID:Pacific/Auckland
LOCATION:Knighton Road\, Hamilton\, New Zealand
DESCRIPTION:<p>Held annually since 1923\, our 2026 Conference will be hosted by&nbsp\;<strong>The University of Waikato</strong>&nbsp\;<strong>- Te Whare Wānanga o Waikato</strong>\, Hamilton\, New Zealand.</p>\n<p><br></p>\n<p>The conference is designed to give professional philosophers and philosophy postgraduate students the opportunity to present and discuss papers in all areas of philosophy.&nbsp\;</p>\n<p>This year's conference is offered fully&nbsp\;<strong>hybrid</strong>\, with all sessions streamed.</p>
ORGANIZER:
METHOD:PUBLISH
END:VEVENT
END:VCALENDAR
