BEGIN:VCALENDAR
PRODID:-//Grails iCalendar plugin//NONSGML Grails iCalendar plugin//EN
VERSION:2.0
CALSCALE:GREGORIAN
METHOD:PUBLISH
BEGIN:VEVENT
DTSTAMP:20260420T024833Z
DTSTART;TZID=Europe/London:20260430T090000
DTEND;TZID=Europe/London:20260430T090000
SUMMARY:Invitation to Contribute to the Special Issue of the Journal Studia z Historii Filozofii  [Studies in the history of philosophy]
UID:20260423T111540Z-iCalPlugin-Grails@philevents-web-f5d4878dd-nv7xt
TZID:Europe/London
DESCRIPTION:<p>The editorial board of Studia z Historii Filozofii invites submissions<br>for a special issue " Tracing Schopenhauer&rsquo\;s Philosophy: Polemics and<br>Inspirations". The aim of this issue is to highlight the diverse paths<br>of Schopenhauer&rsquo\;s reception. We especially encourage articles that<br>explore polemical contexts of his philosophy\, as well as its inspiring<br>influence on other traditions and thinkers.<br>Texts prepared in Polish\, German\, or English\, not exceeding 40\,000<br>characters including spaces\, should be submitted by 30. April 2026\, to<br>the following address: n.chodjack@umk.pl.<br>All submitted papers will undergo a peer-review process.<br>Studia z Historii Filozofii is a quarterly journal published by the<br>Institute of Philosophy of Nicolaus Copernicus University in Toruń.<br>Articles featured in the journal are devoted to the history of<br>philosophy and cover a wide thematic range &mdash\; from ancient times to<br>contemporary philosophy. The journal is included in the list of ranked<br>academic journals of the Polish Ministry of Science and Higher<br>Education.</p>\n<p><br></p>\n<p>We warmly invite you to contribute to this special issue!</p>
ORGANIZER:
METHOD:PUBLISH
END:VEVENT
END:VCALENDAR
